BEGIN:VCALENDAR
VERSION:2.0
PRODID:-//www.martinarts.org//NONSGML kigkonsult.se iCalcreator 2.30.10//
CALSCALE:GREGORIAN
METHOD:PUBLISH
UID:50f864e2-1188-475f-8075-eb307ccd0552
X-WR-CALDESC:Step into The Velvet Hour\, a love-themed cabaret and an intim
 ate two-act live performance by Nova & Ray of Music in the speakeasy back 
 lounge of Culture Shift Elixery. This Cabaret of Love will feature soulful
  covers exploring love in all its forms - from romance and longing to hear
 tbreak and joy. While one act pulls you in with intimate listening\, act t
 wo turns up the heat to get you dancing. Rich vocals\, playful energy\, an
 d a cozy atmosphere made for sipping\, snacking\, swaying\, and feeling al
 l the feels.\n\nhttps://www.facebook.com/share/1C5XEvhW5P/
X-WR-RELCALID:41f8f295fd63e1ab70cbae386c15e0d2
X-WR-TIMEZONE:America/New_York
BEGIN:VTIMEZONE
TZID:America/New_York
BEGIN:STANDARD
TZNAME:EST
DTSTART:20251102T020000
TZOFFSETFROM:-0400
TZOFFSETTO:-0500
RDATE:20261101T020000
END:STANDARD
BEGIN:DAYLIGHT
TZNAME:EDT
DTSTART:20250309T020000
TZOFFSETFROM:-0500
TZOFFSETTO:-0400
RDATE:20260308T020000
RDATE:20270314T020000
END:DAYLIGHT
END:VTIMEZONE
BEGIN:VEVENT
UID:c5f46a31-18a8-4ae4-975e-421276d61ba1
DTSTAMP:20260424T114034Z
DESCRIPTION:Step into The Velvet Hour\, a love-themed cabaret and an intima
 te two-act live performance by Nova & Ray of Music in the speakeasy back l
 ounge of Culture Shift Elixery. This Cabaret of Love will feature soulful 
 covers exploring love in all its forms - from romance and longing to heart
 break and joy. While one act pulls you in with intimate listening\, act tw
 o turns up the heat to get you dancing. Rich vocals\, playful energy\, and
  a cozy atmosphere made for sipping\, snacking\, swaying\, and feeling all
  the feels.\n\nhttps://www.facebook.com/share/1C5XEvhW5P/
DTSTART;TZID=America/New_York:20260227T190000
DTEND;TZID=America/New_York:20260227T210000
LOCATION:Culture Shift Elixery
SUMMARY:Velvet Hour: A Cabaret of Love 2-Act Live Vocal Performance - Surmo
 unt Entertainment
END:VEVENT
END:VCALENDAR
