BEGIN:VCALENDAR
VERSION:2.0
PRODID:-//www.martinarts.org//NONSGML kigkonsult.se iCalcreator 2.30.10//
CALSCALE:GREGORIAN
METHOD:PUBLISH
UID:5a1e7de4-de77-4b5e-9ede-04313d172d1b
X-WR-CALDESC:Award-winning composer and accomplished classical/flamenco sty
 le solo guitarist Gladius performs. FREE and open to all.\n\nAdmission is 
 FREE\; no tickets. Seating is first-come basis. Visit http://www.library.m
 artin.fl.us for details
X-WR-RELCALID:79014a373ab4c7e6d14a2eecbc2af7e4
X-WR-TIMEZONE:America/New_York
BEGIN:VTIMEZONE
TZID:America/New_York
BEGIN:STANDARD
TZNAME:EST
DTSTART:20251102T020000
TZOFFSETFROM:-0400
TZOFFSETTO:-0500
RDATE:20261101T020000
END:STANDARD
BEGIN:DAYLIGHT
TZNAME:EDT
DTSTART:20250309T020000
TZOFFSETFROM:-0500
TZOFFSETTO:-0400
RDATE:20260308T020000
RDATE:20270314T020000
END:DAYLIGHT
END:VTIMEZONE
BEGIN:VEVENT
UID:fedbf7a0-cbc6-455d-876d-1de01ca4de6b
DTSTAMP:20260424T132017Z
DESCRIPTION:Award-winning composer and accomplished classical/flamenco styl
 e solo guitarist Gladius performs. FREE and open to all.\n\nAdmission is F
 REE\; no tickets. Seating is first-come basis. Visit http://www.library.ma
 rtin.fl.us for details
DTSTART;TZID=America/New_York:20260228T140000
DTEND;TZID=America/New_York:20260228T150000
LOCATION:Elisabeth Lathi Library in Indiantown
SUMMARY:Gladius: Flamenco Fusion Guitar Virtuoso
END:VEVENT
END:VCALENDAR
