BEGIN:VCALENDAR
VERSION:2.0
PRODID:-//www.martinarts.org//NONSGML kigkonsult.se iCalcreator 2.30.10//
CALSCALE:GREGORIAN
METHOD:PUBLISH
UID:44dc3cf9-de89-4e67-a801-3dab9d3c8e10
X-WR-CALDESC:In 2024\, Jay Beckenstein and Spyro Gyra celebrated the 50th a
 nniversary of what started as a diversion\, something that was just for fu
 n and 25 cents at the door. It began inauspiciously when Beckenstein and s
 ome musician friends in Buffalo\, New York organized a get-together on the
 ir shared night off from working in bands that actually made money. He and
  childhood friend\, Jeremy Walls\, called those evenings Tuesday Night-Jaz
 z Jams. Saxophone player Beckenstein was a biology major at the University
  of Buffalo before switching to music performance\, and one biology lesson
  stuck: he remembered a freshwater green alga with spiral bands of chlorop
 lasts. When their popularity rose and they added a high schooler named Tom
  Schuman to join them\, club owners insisted on a real name for the band. 
 Beckenstein remembered that biology lesson and called the group Spyro Gyra
 . “It began as a joke\,” Beckenstein said some years ago. “I said ‘spirogy
 ra\,’ he misspelled it and here we are thirty years later.\n\nTicket Link:
  https://www.lyrictheatre.com/show/11688-spyro-gyra
X-WR-RELCALID:c0d3426da72e28d68e425f48cd132a15
X-WR-TIMEZONE:America/New_York
BEGIN:VTIMEZONE
TZID:America/New_York
BEGIN:STANDARD
TZNAME:EST
DTSTART:20251102T020000
TZOFFSETFROM:-0400
TZOFFSETTO:-0500
RDATE:20261101T020000
END:STANDARD
BEGIN:DAYLIGHT
TZNAME:EDT
DTSTART:20250309T020000
TZOFFSETFROM:-0500
TZOFFSETTO:-0400
RDATE:20260308T020000
RDATE:20270314T020000
END:DAYLIGHT
END:VTIMEZONE
BEGIN:VEVENT
UID:478953f7-ccae-4aec-b212-653ebfb23e3e
DTSTAMP:20260424T112829Z
DESCRIPTION:In 2024\, Jay Beckenstein and Spyro Gyra celebrated the 50th an
 niversary of what started as a diversion\, something that was just for fun
  and 25 cents at the door. It began inauspiciously when Beckenstein and so
 me musician friends in Buffalo\, New York organized a get-together on thei
 r shared night off from working in bands that actually made money. He and 
 childhood friend\, Jeremy Walls\, called those evenings Tuesday Night-Jazz
  Jams. Saxophone player Beckenstein was a biology major at the University 
 of Buffalo before switching to music performance\, and one biology lesson 
 stuck: he remembered a freshwater green alga with spiral bands of chloropl
 asts. When their popularity rose and they added a high schooler named Tom 
 Schuman to join them\, club owners insisted on a real name for the band. B
 eckenstein remembered that biology lesson and called the group Spyro Gyra.
  “It began as a joke\,” Beckenstein said some years ago. “I said ‘spirogyr
 a\,’ he misspelled it and here we are thirty years later.\n\nTicket Link: 
 https://www.lyrictheatre.com/show/11688-spyro-gyra
DTSTART;TZID=America/New_York:20260228T190000
DTEND;TZID=America/New_York:20260228T203000
LOCATION:59 SW Flagler Ave\, Stuart\, FL 34994 US
SUMMARY:Spyro Gyra
END:VEVENT
END:VCALENDAR
