BEGIN:VCALENDAR
VERSION:2.0
PRODID:-//www.martinarts.org//NONSGML kigkonsult.se iCalcreator 2.30.10//
CALSCALE:GREGORIAN
METHOD:PUBLISH
UID:35054c26-bd71-4f28-9264-7424d1e29a94
X-WR-CALDESC:The Jensen Beach High School Drama Department will be presenti
 ng their Spring Musical Charlie and The Chocolate Factory February 26th - 
 March 1st. This production features 65 of our amazing student performers a
 s well as our amazing tech\, crew\, and student artist and engineers.
X-WR-RELCALID:60d65a888277b29df25841deca1a03ff
X-WR-TIMEZONE:America/New_York
BEGIN:VTIMEZONE
TZID:America/New_York
BEGIN:STANDARD
TZNAME:EST
DTSTART:20251102T020000
TZOFFSETFROM:-0400
TZOFFSETTO:-0500
RDATE:20261101T020000
END:STANDARD
BEGIN:DAYLIGHT
TZNAME:EDT
DTSTART:20250309T020000
TZOFFSETFROM:-0500
TZOFFSETTO:-0400
RDATE:20260308T020000
RDATE:20270314T020000
END:DAYLIGHT
END:VTIMEZONE
BEGIN:VEVENT
UID:9e1ed5c7-3b94-4d1f-8d5d-7cf8cc51ac0e
DTSTAMP:20260424T103351Z
DESCRIPTION:The Jensen Beach High School Drama Department will be presentin
 g their Spring Musical Charlie and The Chocolate Factory February 26th - M
 arch 1st. This production features 65 of our amazing student performers as
  well as our amazing tech\, crew\, and student artist and engineers.
DTSTART;TZID=America/New_York:20260301T140000
DTEND;TZID=America/New_York:20260301T160000
LOCATION:2875 NW Goldenrod Rd \, Jensen Beach\, FL 34957 US
SUMMARY:Charlie and The Chocolate Factory presented by Jensen Beach High Sc
 hool Drama Department
END:VEVENT
END:VCALENDAR
