BEGIN:VCALENDAR
VERSION:2.0
PRODID:-//www.martinarts.org//NONSGML kigkonsult.se iCalcreator 2.30.10//
CALSCALE:GREGORIAN
METHOD:PUBLISH
UID:676c9178-bc13-49d1-99b5-eecd2a73ec77
X-WR-CALDESC:The Opening Night Reception\, with light refreshments and awar
 ds\, is Sunday March 1 from 5 to 7 and is open to the general public. \n\n
 VIEWING  \nMondays-Thursdays  10:30am-12:30pm\n(To schedule a special view
 ing\, please contact Dale Forbes)
X-WR-RELCALID:fe8509e880c75b80551da8ec8e890e31
X-WR-TIMEZONE:America/New_York
BEGIN:VTIMEZONE
TZID:America/New_York
BEGIN:STANDARD
TZNAME:EST
DTSTART:20251102T020000
TZOFFSETFROM:-0400
TZOFFSETTO:-0500
RDATE:20261101T020000
END:STANDARD
BEGIN:DAYLIGHT
TZNAME:EDT
DTSTART:20250309T020000
TZOFFSETFROM:-0500
TZOFFSETTO:-0400
RDATE:20260308T020000
RDATE:20270314T020000
END:DAYLIGHT
END:VTIMEZONE
BEGIN:VEVENT
UID:1a466f13-69c5-4aaa-9be4-ebe3b0a31d9c
DTSTAMP:20260424T103352Z
DESCRIPTION:The Opening Night Reception\, with light refreshments and award
 s\, is Sunday March 1 from 5 to 7 and is open to the general public. \n\nV
 IEWING  \nMondays-Thursdays  10:30am-12:30pm\n(To schedule a special viewi
 ng\, please contact Dale Forbes)
DTSTART;TZID=America/New_York:20260301T170000
DTEND;TZID=America/New_York:20260301T190000
LOCATION:2221 NE Savannah Road\, Jensen Beach\, FL 34957 US
SUMMARY:Art Associates of Martin County's 2026 Annual Members Art Show Open
 ing Reception
END:VEVENT
END:VCALENDAR
