BEGIN:VCALENDAR
VERSION:2.0
PRODID:-//www.martinarts.org//NONSGML kigkonsult.se iCalcreator 2.30.10//
CALSCALE:GREGORIAN
METHOD:PUBLISH
UID:707ed3cf-6266-451e-b7d9-8ff3dd3e7410
X-WR-CALDESC:A dynamic group that has been singing throughout South Florida
  since their genesis over 12 years ago. Come be inspired by selections lik
 e HOLY FOREVER\, WHAT A BEAUTIFUL NIGHT\, I THANK GOD\, AND LORD\, YOU ARE
  GOOD being performed by Chris Melton and wife Shannon together with Nijae
  Willis and Robert Harvey. God's Property Praise and Worship Team pride th
 emselves in their powerful music ministry and in creating a space for indi
 viduals to praise God without limits.
X-WR-RELCALID:74bfb17cd25438dc3fb6d4a5636a951c
X-WR-TIMEZONE:America/New_York
BEGIN:VTIMEZONE
TZID:America/New_York
BEGIN:STANDARD
TZNAME:EST
DTSTART:20251102T020000
TZOFFSETFROM:-0400
TZOFFSETTO:-0500
RDATE:20261101T020000
END:STANDARD
BEGIN:DAYLIGHT
TZNAME:EDT
DTSTART:20250309T020000
TZOFFSETFROM:-0500
TZOFFSETTO:-0400
RDATE:20260308T020000
RDATE:20270314T020000
END:DAYLIGHT
END:VTIMEZONE
BEGIN:VEVENT
UID:a4743d7f-609c-4eee-bb35-5b6d63541921
DTSTAMP:20260424T102810Z
DESCRIPTION:A dynamic group that has been singing throughout South Florida 
 since their genesis over 12 years ago. Come be inspired by selections like
  HOLY FOREVER\, WHAT A BEAUTIFUL NIGHT\, I THANK GOD\, AND LORD\, YOU ARE 
 GOOD being performed by Chris Melton and wife Shannon together with Nijae 
 Willis and Robert Harvey. God's Property Praise and Worship Team pride the
 mselves in their powerful music ministry and in creating a space for indiv
 iduals to praise God without limits.
DTSTART;TZID=America/New_York:20260301T170000
DTEND;TZID=America/New_York:20260301T190000
LOCATION:Stuart Congregational Church
SUMMARY:God's Property Praise and Worship Team at Stuart Congregational Chu
 rch
END:VEVENT
END:VCALENDAR
