BEGIN:VCALENDAR
VERSION:2.0
PRODID:-//www.martinarts.org//NONSGML kigkonsult.se iCalcreator 2.30.10//
CALSCALE:GREGORIAN
METHOD:PUBLISH
UID:5df03006-31f1-4260-8ed4-d4246a628da3
X-WR-CALDESC:Open Studio with Denise Justice at the Artists' Nook located w
 ithin Stuart Art Supply.\n \nPick a medium!\n\nFor more Information contac
 t Denise denisejusticeart@gmail.com
X-WR-RELCALID:0b25b351bbb3c48d2295118c91cd1e91
X-WR-TIMEZONE:America/New_York
BEGIN:VTIMEZONE
TZID:America/New_York
BEGIN:STANDARD
TZNAME:EST
DTSTART:20251102T020000
TZOFFSETFROM:-0400
TZOFFSETTO:-0500
RDATE:20261101T020000
END:STANDARD
BEGIN:DAYLIGHT
TZNAME:EDT
DTSTART:20250309T020000
TZOFFSETFROM:-0500
TZOFFSETTO:-0400
RDATE:20260308T020000
RDATE:20270314T020000
END:DAYLIGHT
END:VTIMEZONE
BEGIN:VEVENT
UID:b8189c17-9a8d-4fab-bda9-65d8055780a1
DTSTAMP:20260424T102356Z
DESCRIPTION:Open Studio with Denise Justice at the Artists' Nook located wi
 thin Stuart Art Supply.\n \nPick a medium!\n\nFor more Information contact
  Denise denisejusticeart@gmail.com
DTSTART;TZID=America/New_York:20260302T130000
DTEND;TZID=America/New_York:20260302T160000
LOCATION:Stuart Art Supply & Studio | 43 Kindred Street Stuart FL 34994
SUMMARY:Open Studio w/ Denise Justice
END:VEVENT
END:VCALENDAR
