BEGIN:VCALENDAR
VERSION:2.0
PRODID:-//www.martinarts.org//NONSGML kigkonsult.se iCalcreator 2.30.10//
CALSCALE:GREGORIAN
METHOD:PUBLISH
UID:178fe2ee-d1a7-4351-809f-032c09294b05
X-WR-CALDESC:9 AM - 12 NOON\n\nContact Carol for Information:\nPhone: 772.2
 14.8940\nEmail: keppca@outlook.com
X-WR-RELCALID:a32f438c1c93d6fc6e95049b4a984e21
X-WR-TIMEZONE:America/New_York
BEGIN:VTIMEZONE
TZID:America/New_York
BEGIN:STANDARD
TZNAME:EST
DTSTART:20251102T020000
TZOFFSETFROM:-0400
TZOFFSETTO:-0500
RDATE:20261101T020000
END:STANDARD
BEGIN:DAYLIGHT
TZNAME:EDT
DTSTART:20250309T020000
TZOFFSETFROM:-0500
TZOFFSETTO:-0400
RDATE:20260308T020000
RDATE:20270314T020000
END:DAYLIGHT
END:VTIMEZONE
BEGIN:VEVENT
UID:139789aa-e430-4707-8be5-1d92b88188f8
DTSTAMP:20260424T102838Z
DESCRIPTION:9 AM - 12 NOON\n\nContact Carol for Information:\nPhone: 772.21
 4.8940\nEmail: keppca@outlook.com
DTSTART;TZID=America/New_York:20260304T090000
DTEND;TZID=America/New_York:20260304T120000
LOCATION:Stuart Art Supply & Studio | 43 Kindred Street Stuart FL 34994
SUMMARY:Oil & Acrylic Painting with Carol Kepp
END:VEVENT
END:VCALENDAR
