BEGIN:VCALENDAR
VERSION:2.0
PRODID:-//www.martinarts.org//NONSGML kigkonsult.se iCalcreator 2.30.10//
CALSCALE:GREGORIAN
METHOD:PUBLISH
UID:9a28d284-9aaf-410b-88ed-564cca874eb6
X-WR-CALDESC:Get ready for a night of feel-good live music with The Nouveau
 x Honkies — the Treasure Coast’s beloved troubadours of Americana. They’ll
  be bringing together soulful vocals\, sweet fiddle and classic country gr
 ooves for a show that feels like home. With multiple studio albums\, an EP
 \, and even a Christmas record to their name\, this seasoned husband and w
 ife duo blends heartfelt originals with perfectly chosen covers\, all deli
 vered with natural chemistry\, storytelling\, and heart. After 14 years of
  touring the country\, the Nouveaux Honkies are back home on the Treasure 
 Coast\, bringing national touring chops to our intimate\, local stage. The
 y’ll be sharing songs\, laughs\, and easygoing grooves\, so come enjoy an 
 evening of warm\, roots-driven music. Their music is guaranteed to leave y
 ou smiling and tapping your toes all night long.\n\nhttps://www.facebook.c
 om/share/1CgCJkwL1V/
X-WR-RELCALID:ac19f8f2656469a13798c0f36ac903c0
X-WR-TIMEZONE:America/New_York
BEGIN:VTIMEZONE
TZID:America/New_York
BEGIN:STANDARD
TZNAME:EST
DTSTART:20251102T020000
TZOFFSETFROM:-0400
TZOFFSETTO:-0500
RDATE:20261101T020000
END:STANDARD
BEGIN:DAYLIGHT
TZNAME:EDT
DTSTART:20250309T020000
TZOFFSETFROM:-0500
TZOFFSETTO:-0400
RDATE:20260308T020000
RDATE:20270314T020000
END:DAYLIGHT
END:VTIMEZONE
BEGIN:VEVENT
UID:d1ba9907-c42d-4e50-a294-c6b9b4cb62ac
DTSTAMP:20260424T102749Z
DESCRIPTION:Get ready for a night of feel-good live music with The Nouveaux
  Honkies — the Treasure Coast’s beloved troubadours of Americana. They’ll 
 be bringing together soulful vocals\, sweet fiddle and classic country gro
 oves for a show that feels like home. With multiple studio albums\, an EP\
 , and even a Christmas record to their name\, this seasoned husband and wi
 fe duo blends heartfelt originals with perfectly chosen covers\, all deliv
 ered with natural chemistry\, storytelling\, and heart. After 14 years of 
 touring the country\, the Nouveaux Honkies are back home on the Treasure C
 oast\, bringing national touring chops to our intimate\, local stage. They
 ’ll be sharing songs\, laughs\, and easygoing grooves\, so come enjoy an e
 vening of warm\, roots-driven music. Their music is guaranteed to leave yo
 u smiling and tapping your toes all night long.\n\nhttps://www.facebook.co
 m/share/1CgCJkwL1V/
DTSTART;TZID=America/New_York:20260306T183000
DTEND;TZID=America/New_York:20260306T213000
LOCATION:Culture Shift Elixery
SUMMARY:The Nouveaux Honkies at Culture Shift Elixery
END:VEVENT
END:VCALENDAR
