BEGIN:VCALENDAR
VERSION:2.0
PRODID:-//www.martinarts.org//NONSGML kigkonsult.se iCalcreator 2.30.10//
CALSCALE:GREGORIAN
METHOD:PUBLISH
UID:521db096-ef09-404b-bcf0-15d542f20e4f
X-WR-CALDESC:Jake Shimabukuro is a world-renowned ukulele virtuoso whose gr
 oundbreaking artistry has redefined the instrument for the 21st century. H
 ailed as the “Jimi Hendrix of the ukulele\,” Shimabukuro has captivated au
 diences across the globe with his masterful technique\, innovative spirit\
 , and deeply expressive performances that seamlessly blend elements of jaz
 z\, rock\, classical\, blues\, folk\, and traditional Hawaiian music. Born
  and raised in Honolulu\, Hawai‘i\, Jake began playing the ukulele at age 
 four\, quickly developing a unique style that pushed the instrument far be
 yond its traditional boundaries. He first gained international recognition
  after his jaw- dropping rendition of George Harrison’s “While My Guitar G
 ently Weeps” went viral\, introducing millions to the ukulele’s untapped p
 otential.\n\nTicket Link: https://www.lyrictheatre.com/show/11785-jake-shi
 mabukuro
X-WR-RELCALID:fbecf2f3e0dc634e011215527029b87f
X-WR-TIMEZONE:America/New_York
BEGIN:VTIMEZONE
TZID:America/New_York
BEGIN:STANDARD
TZNAME:EST
DTSTART:20251102T020000
TZOFFSETFROM:-0400
TZOFFSETTO:-0500
RDATE:20261101T020000
END:STANDARD
BEGIN:DAYLIGHT
TZNAME:EDT
DTSTART:20250309T020000
TZOFFSETFROM:-0500
TZOFFSETTO:-0400
RDATE:20260308T020000
RDATE:20270314T020000
END:DAYLIGHT
END:VTIMEZONE
BEGIN:VEVENT
UID:0ae266e9-74af-4d61-9e7f-1c5ed6310f9f
DTSTAMP:20260424T102749Z
DESCRIPTION:Jake Shimabukuro is a world-renowned ukulele virtuoso whose gro
 undbreaking artistry has redefined the instrument for the 21st century. Ha
 iled as the “Jimi Hendrix of the ukulele\,” Shimabukuro has captivated aud
 iences across the globe with his masterful technique\, innovative spirit\,
  and deeply expressive performances that seamlessly blend elements of jazz
 \, rock\, classical\, blues\, folk\, and traditional Hawaiian music. Born 
 and raised in Honolulu\, Hawai‘i\, Jake began playing the ukulele at age f
 our\, quickly developing a unique style that pushed the instrument far bey
 ond its traditional boundaries. He first gained international recognition 
 after his jaw- dropping rendition of George Harrison’s “While My Guitar Ge
 ntly Weeps” went viral\, introducing millions to the ukulele’s untapped po
 tential.\n\nTicket Link: https://www.lyrictheatre.com/show/11785-jake-shim
 abukuro
DTSTART;TZID=America/New_York:20260308T190000
DTEND;TZID=America/New_York:20260308T210000
LOCATION:The Lyric Theatre
SUMMARY:Jake Shimabukuro at The Lyric Theatre
END:VEVENT
END:VCALENDAR
