BEGIN:VCALENDAR
VERSION:2.0
PRODID:-//www.martinarts.org//NONSGML kigkonsult.se iCalcreator 2.30.10//
CALSCALE:GREGORIAN
METHOD:PUBLISH
UID:dcb968aa-fb8c-40f2-a04a-8e66ee3e496d
X-WR-CALDESC:You know their names and they only need one. They’re Patsy and
  Tammy\, Loretta and Dolly\, Faith and Carrie. They’re the women of countr
 y music\, the legends who helped put country music on the map with fierce 
 voices and independent spirits. Three powerhouse singers take the stage to
  perform fresh arrangements of classic and contemporary hits in an elegant
  and authentic journey spanning eight decades and celebrating the evolutio
 n of country music. From classics like Patsy Cline’s “Crazy\,” to Tammy Wy
 nette’s “Stand by Your Man\,” and Loretta Lynn’s “Coal Miner’s Daughter\,”
  to new favorites like Martina McBride’s “Independence Day” and Carrie Und
 erwood’s “His Last Name\,” this high-energy show is a tribute to the ladie
 s we love. With a four-piece band and multimedia presentation\, you’ll be 
 singing along and tapping your toes to every song because you know ‘em and
  love ‘em. You’d be crazy not to go.\n\nTicket link: https://www.lyricthea
 tre.com/show/11600-rhinestone-cowgirls-legendary-ladies-of-country-music
X-WR-RELCALID:e4d81bfa613c7d7db3295dd2a90de591
X-WR-TIMEZONE:America/New_York
BEGIN:VTIMEZONE
TZID:America/New_York
BEGIN:STANDARD
TZNAME:EST
DTSTART:20251102T020000
TZOFFSETFROM:-0400
TZOFFSETTO:-0500
RDATE:20261101T020000
END:STANDARD
BEGIN:DAYLIGHT
TZNAME:EDT
DTSTART:20260308T020000
TZOFFSETFROM:-0500
TZOFFSETTO:-0400
RDATE:20270314T020000
END:DAYLIGHT
END:VTIMEZONE
BEGIN:VEVENT
UID:962b7a20-c93f-4acb-9cbd-0203de9a0d04
DTSTAMP:20260424T103351Z
DESCRIPTION:You know their names and they only need one. They’re Patsy and 
 Tammy\, Loretta and Dolly\, Faith and Carrie. They’re the women of country
  music\, the legends who helped put country music on the map with fierce v
 oices and independent spirits. Three powerhouse singers take the stage to 
 perform fresh arrangements of classic and contemporary hits in an elegant 
 and authentic journey spanning eight decades and celebrating the evolution
  of country music. From classics like Patsy Cline’s “Crazy\,” to Tammy Wyn
 ette’s “Stand by Your Man\,” and Loretta Lynn’s “Coal Miner’s Daughter\,” 
 to new favorites like Martina McBride’s “Independence Day” and Carrie Unde
 rwood’s “His Last Name\,” this high-energy show is a tribute to the ladies
  we love. With a four-piece band and multimedia presentation\, you’ll be s
 inging along and tapping your toes to every song because you know ‘em and 
 love ‘em. You’d be crazy not to go.\n\nTicket link: https://www.lyrictheat
 re.com/show/11600-rhinestone-cowgirls-legendary-ladies-of-country-music
DTSTART;TZID=America/New_York:20260312T190000
DTEND;TZID=America/New_York:20260312T210000
LOCATION:59 SW Flagler Ave\, Stuart\, FL 34994 US
SUMMARY:Rhinestone Cowgirls - Legendary Ladies of Country Music
END:VEVENT
END:VCALENDAR
