BEGIN:VCALENDAR
VERSION:2.0
PRODID:-//www.martinarts.org//NONSGML kigkonsult.se iCalcreator 2.30.10//
CALSCALE:GREGORIAN
METHOD:PUBLISH
UID:ad87b2d9-d90e-42f1-ac2b-65009bcc4dc8
X-WR-CALDESC:Copland- Appalachian Spring / Paul Frucht- Finding Religion fe
 aturing Leonid Sigal\, violin\; Julian Schwarz\, cello / Beethoven- Sympho
 ny No. 6\, op.68 (“Pastorale”)\n\nTicket Link: https://atlanticclassicalor
 chestra.my.salesforce-sites.com/ticket/#/events/a0SPM000001lobt2AA
X-WR-RELCALID:ac05b9999950180ab773bd62798464c1
X-WR-TIMEZONE:America/New_York
BEGIN:VTIMEZONE
TZID:America/New_York
BEGIN:STANDARD
TZNAME:EST
DTSTART:20251102T020000
TZOFFSETFROM:-0400
TZOFFSETTO:-0500
RDATE:20261101T020000
END:STANDARD
BEGIN:DAYLIGHT
TZNAME:EDT
DTSTART:20260308T020000
TZOFFSETFROM:-0500
TZOFFSETTO:-0400
RDATE:20270314T020000
END:DAYLIGHT
END:VTIMEZONE
BEGIN:VEVENT
UID:c3a09980-03f6-4807-99fe-a81f45c75f97
DTSTAMP:20260424T095827Z
DESCRIPTION:Copland- Appalachian Spring / Paul Frucht- Finding Religion fea
 turing Leonid Sigal\, violin\; Julian Schwarz\, cello / Beethoven- Symphon
 y No. 6\, op.68 (“Pastorale”)\n\nTicket Link: https://atlanticclassicalorc
 hestra.my.salesforce-sites.com/ticket/#/events/a0SPM000001lobt2AA
DTSTART;TZID=America/New_York:20260313T153000
DTEND;TZID=America/New_York:20260313T170000
LOCATION:The Lyric Theatre
SUMMARY:Masterworks Series III
END:VEVENT
END:VCALENDAR
