BEGIN:VCALENDAR
VERSION:2.0
PRODID:-//www.martinarts.org//NONSGML kigkonsult.se iCalcreator 2.30.10//
CALSCALE:GREGORIAN
METHOD:PUBLISH
UID:67db9d42-fab2-48cb-b4cf-47edd8a505a3
X-WR-CALDESC:Copland- Appalachian Spring / Paul Frucht- Finding Religion fe
 aturing Leonid Sigal\, violin\; Julian Schwarz\, cello / Beethoven- Sympho
 ny No. 6\, op.68 (“Pastorale”)\n\nTicket Link: https://atlanticclassicalor
 chestra.my.salesforce-sites.com/ticket/#/events/a0SPM000001lobt2AA
X-WR-RELCALID:66e130aee6b4be291a2dfd5343143cf9
X-WR-TIMEZONE:America/New_York
BEGIN:VTIMEZONE
TZID:America/New_York
BEGIN:STANDARD
TZNAME:EST
DTSTART:20251102T020000
TZOFFSETFROM:-0400
TZOFFSETTO:-0500
RDATE:20261101T020000
END:STANDARD
BEGIN:DAYLIGHT
TZNAME:EDT
DTSTART:20260308T020000
TZOFFSETFROM:-0500
TZOFFSETTO:-0400
RDATE:20270314T020000
END:DAYLIGHT
END:VTIMEZONE
BEGIN:VEVENT
UID:7ed35ff4-2372-49ee-9d01-a5ec8da34537
DTSTAMP:20260424T095825Z
DESCRIPTION:Copland- Appalachian Spring / Paul Frucht- Finding Religion fea
 turing Leonid Sigal\, violin\; Julian Schwarz\, cello / Beethoven- Symphon
 y No. 6\, op.68 (“Pastorale”)\n\nTicket Link: https://atlanticclassicalorc
 hestra.my.salesforce-sites.com/ticket/#/events/a0SPM000001lobt2AA
DTSTART;TZID=America/New_York:20260313T193000
DTEND;TZID=America/New_York:20260313T210000
LOCATION:The Lyric Theatre
SUMMARY:Masterworks Series III
END:VEVENT
END:VCALENDAR
