BEGIN:VCALENDAR
VERSION:2.0
PRODID:-//www.martinarts.org//NONSGML kigkonsult.se iCalcreator 2.30.10//
CALSCALE:GREGORIAN
METHOD:PUBLISH
UID:0b136b95-c688-41fd-a60c-34bc76774d93
X-WR-CALDESC:Hairspray\, the Musical\, is a joyous and inspiring tale of a 
 young girl who fights for change in a society resistant to it. Through its
  infectious music\, relatable characters\, and powerful themes\, the music
 al continues to inspire audiences to embrace their differences\, challenge
  social norms\, and stand up for what's right. It's legacy as a source of 
 entertainment and social commentary endures\, making it a must-see for fan
 s of musical theater. Hairspray features an upbeat\, 1960s-inspired soundt
 rack\, filled with catchy songs that have become iconic\, including Good M
 orning Baltimore\, You Can't Stop the Beat\, and I Know Where I've Been. T
 his production features an outstanding cast that will sing and dance like 
 no other. And\, for the first time\, you will experience the Barn's new\, 
 gigantic LED video screen wall that will envelop you in all the action.\n
 \nTicket Link: https://www.barntheatretickets.com/Home/ListShowings?aid=27
 1
X-WR-RELCALID:57cead4f7848f27c9b2f4c74148b7c9e
X-WR-TIMEZONE:America/New_York
BEGIN:VTIMEZONE
TZID:America/New_York
BEGIN:STANDARD
TZNAME:EST
DTSTART:20251102T020000
TZOFFSETFROM:-0400
TZOFFSETTO:-0500
RDATE:20261101T020000
END:STANDARD
BEGIN:DAYLIGHT
TZNAME:EDT
DTSTART:20260308T020000
TZOFFSETFROM:-0500
TZOFFSETTO:-0400
RDATE:20270314T020000
END:DAYLIGHT
END:VTIMEZONE
BEGIN:VEVENT
UID:8b0fc4d1-d5f7-4ccb-8948-8e21a162f790
DTSTAMP:20260424T102937Z
DESCRIPTION:Hairspray\, the Musical\, is a joyous and inspiring tale of a y
 oung girl who fights for change in a society resistant to it. Through its 
 infectious music\, relatable characters\, and powerful themes\, the musica
 l continues to inspire audiences to embrace their differences\, challenge 
 social norms\, and stand up for what's right. It's legacy as a source of e
 ntertainment and social commentary endures\, making it a must-see for fans
  of musical theater. Hairspray features an upbeat\, 1960s-inspired soundtr
 ack\, filled with catchy songs that have become iconic\, including Good Mo
 rning Baltimore\, You Can't Stop the Beat\, and I Know Where I've Been. Th
 is production features an outstanding cast that will sing and dance like n
 o other. And\, for the first time\, you will experience the Barn's new\, g
 igantic LED video screen wall that will envelop you in all the action.\n\n
 Ticket Link: https://www.barntheatretickets.com/Home/ListShowings?aid=271
DTSTART;TZID=America/New_York:20260314T200000
DTEND;TZID=America/New_York:20260314T213000
LOCATION:The Barn Theatre
SUMMARY:Hairspray the Musical at The Barn Theatre
END:VEVENT
END:VCALENDAR
