BEGIN:VCALENDAR
VERSION:2.0
PRODID:-//www.martinarts.org//NONSGML kigkonsult.se iCalcreator 2.30.10//
CALSCALE:GREGORIAN
METHOD:PUBLISH
UID:cdf9cc65-8220-478b-b19e-1a05d6b1f878
X-WR-CALDESC:AGENDA - Saturday\, March 14\, 2026\n\n9:45 a.m. – 10:00 a.m. 
 FLAG Symposium Check-in\nCoffee and snacks will be available\n\n10:00 a.m.
  – 10:45 Judge’s Presentation – free & open to the public\nSean G. Clark\,
  nationally recognized artist\, art teacher\, and our 2026 judge\, will di
 scuss his creative journey as an artist and delve into the origins and tra
 jectory of his practice as a painter and quiltmaker.\n\n10:55 a.m. – 12:45
  Artists’ Talks by 6 FLAG members – free & open to the public\n Artist Pre
 senters are Thomas Anastasio (Palm Coast)\, Minakshi De (Vero Beach)\, Jod
 y Goldman (Palmetto)\, Susan Martin (Merritt Island)\, Lize Thomas Murphy 
 (Jacksonville)\, Kathy O’Meara (New Smyrna Beach)\n\n\nGallery Location: 8
 0 SE Ocean Blvd.\, Stuart\, FL 34994\n*Gallery Hours (only during an exhib
 it)\nTuesday 10AM–6PM and Wednesday–Saturday 10AM–4PM or by appointment\n
 \nA donation of $5 in support of our exhibitions and programs is requested
 .\n\nSponsored in part by the State of Florida through the Division of Art
 s and Culture and the National Endowment for the Arts\, Martin County Boar
 d of County Commissioners\, and private contributions.
X-WR-RELCALID:9fd7eb8c66e119e685cc5564b44ce98b
X-WR-TIMEZONE:America/New_York
BEGIN:VTIMEZONE
TZID:America/New_York
BEGIN:STANDARD
TZNAME:EST
DTSTART:20251102T020000
TZOFFSETFROM:-0400
TZOFFSETTO:-0500
RDATE:20261101T020000
END:STANDARD
BEGIN:DAYLIGHT
TZNAME:EDT
DTSTART:20260308T020000
TZOFFSETFROM:-0500
TZOFFSETTO:-0400
RDATE:20270314T020000
END:DAYLIGHT
END:VTIMEZONE
BEGIN:VEVENT
UID:b58bf261-a2ca-47de-88ae-f44191e452c2
DTSTAMP:20260424T102417Z
DESCRIPTION:AGENDA - Saturday\, March 14\, 2026\n\n9:45 a.m. – 10:00 a.m. F
 LAG Symposium Check-in\nCoffee and snacks will be available\n\n10:00 a.m. 
 – 10:45 Judge’s Presentation – free & open to the public\nSean G. Clark\, 
 nationally recognized artist\, art teacher\, and our 2026 judge\, will dis
 cuss his creative journey as an artist and delve into the origins and traj
 ectory of his practice as a painter and quiltmaker.\n\n10:55 a.m. – 12:45 
 Artists’ Talks by 6 FLAG members – free & open to the public\n Artist Pres
 enters are Thomas Anastasio (Palm Coast)\, Minakshi De (Vero Beach)\, Jody
  Goldman (Palmetto)\, Susan Martin (Merritt Island)\, Lize Thomas Murphy (
 Jacksonville)\, Kathy O’Meara (New Smyrna Beach)\n\n\nGallery Location: 80
  SE Ocean Blvd.\, Stuart\, FL 34994\n*Gallery Hours (only during an exhibi
 t)\nTuesday 10AM–6PM and Wednesday–Saturday 10AM–4PM or by appointment\n\n
 A donation of $5 in support of our exhibitions and programs is requested.
 \n\nSponsored in part by the State of Florida through the Division of Arts
  and Culture and the National Endowment for the Arts\, Martin County Board
  of County Commissioners\, and private contributions.
DTSTART;TZID=America/New_York:20260314T100000
DTEND;TZID=America/New_York:20260314T160000
LOCATION:MartinArts\, 80 SE Ocean Blvd.\, Stuart\, AL 34994 US
SUMMARY:CHCC Gallery | Florida Artists Group 76th Annual Exhibition and Sym
 posium
END:VEVENT
END:VCALENDAR
