BEGIN:VCALENDAR
VERSION:2.0
PRODID:-//www.martinarts.org//NONSGML kigkonsult.se iCalcreator 2.30.10//
CALSCALE:GREGORIAN
METHOD:PUBLISH
UID:672db669-1bdb-4c20-9edf-b14193275341
X-WR-CALDESC:Join us for an evening of timeless jazz classics\, rich storyt
 elling\, and intimate live music with the Carla Holbrook Jazz Trio. Led by
  powerhouse vocalist Carla Holbrook\, the trio is anchored by her soulful 
 voice and magnetic stage presence. Known for blending modern jazz elegance
  with classic singer-songwriter depth\, Carla captivates audiences with so
 ngs that feel intimate\, electric\, and deeply human. Backed by Rick Moore
  on keyboard and Val Shaffer on bass\, this trio’s expressive sound\, magn
 etic energy and authentic artistry is sure to transform the back lounge in
 to a space of connection and creativity you won’t want to miss.\n\nhttps:/
 /www.eventbrite.com/e/one-night-only-live-jazz-carla-holbrook-jazz-trio-li
 mited-capacity-tickets-1984185191320
X-WR-RELCALID:6356d766a2cdf2adeb5498dc15a4865b
X-WR-TIMEZONE:America/New_York
BEGIN:VTIMEZONE
TZID:America/New_York
BEGIN:STANDARD
TZNAME:EST
DTSTART:20251102T020000
TZOFFSETFROM:-0400
TZOFFSETTO:-0500
RDATE:20261101T020000
END:STANDARD
BEGIN:DAYLIGHT
TZNAME:EDT
DTSTART:20260308T020000
TZOFFSETFROM:-0500
TZOFFSETTO:-0400
RDATE:20270314T020000
END:DAYLIGHT
END:VTIMEZONE
BEGIN:VEVENT
UID:38325826-13b9-4fce-a5bd-28320a0365b0
DTSTAMP:20260424T103240Z
DESCRIPTION:Join us for an evening of timeless jazz classics\, rich storyte
 lling\, and intimate live music with the Carla Holbrook Jazz Trio. Led by 
 powerhouse vocalist Carla Holbrook\, the trio is anchored by her soulful v
 oice and magnetic stage presence. Known for blending modern jazz elegance 
 with classic singer-songwriter depth\, Carla captivates audiences with son
 gs that feel intimate\, electric\, and deeply human. Backed by Rick Moore 
 on keyboard and Val Shaffer on bass\, this trio’s expressive sound\, magne
 tic energy and authentic artistry is sure to transform the back lounge int
 o a space of connection and creativity you won’t want to miss.\n\nhttps://
 www.eventbrite.com/e/one-night-only-live-jazz-carla-holbrook-jazz-trio-lim
 ited-capacity-tickets-1984185191320
DTSTART;TZID=America/New_York:20260314T180000
DTEND;TZID=America/New_York:20260314T210000
LOCATION:Culture Shift Elixery
SUMMARY:LIVE JAZZ MUSIC with the Carla Holbrook Jazz Trio
END:VEVENT
END:VCALENDAR
