BEGIN:VCALENDAR
VERSION:2.0
PRODID:-//www.martinarts.org//NONSGML kigkonsult.se iCalcreator 2.30.10//
CALSCALE:GREGORIAN
METHOD:PUBLISH
UID:65dc4381-5529-4289-8be8-35823de5b6c9
X-WR-CALDESC:VIP Meet & Greet with Wishbone Ash Will include: -Pre Show Mee
 t and Q&A with the Band -Personal Photo with the band -Exclusive Private P
 erformance- $50 each-VIP Laminate & Lanyard -Crowd-free merchandise shoppi
 ng -LIMITED AVAILABILITY - DOES NOT INCLUDE TICKET to the show\n\nTicket L
 ink: https://www.lyrictheatre.com/show/11519-wishbone-ash-featuring-argus-
 live
X-WR-RELCALID:98e6df7b4f633bbbcdbbb9e0e57ccf9f
X-WR-TIMEZONE:America/New_York
BEGIN:VTIMEZONE
TZID:America/New_York
BEGIN:STANDARD
TZNAME:EST
DTSTART:20251102T020000
TZOFFSETFROM:-0400
TZOFFSETTO:-0500
RDATE:20261101T020000
END:STANDARD
BEGIN:DAYLIGHT
TZNAME:EDT
DTSTART:20260308T020000
TZOFFSETFROM:-0500
TZOFFSETTO:-0400
RDATE:20270314T020000
END:DAYLIGHT
END:VTIMEZONE
BEGIN:VEVENT
UID:9c68a158-72bf-4a2a-8901-a4de21cfd2af
DTSTAMP:20260424T103057Z
DESCRIPTION:VIP Meet & Greet with Wishbone Ash Will include: -Pre Show Meet
  and Q&A with the Band -Personal Photo with the band -Exclusive Private Pe
 rformance- $50 each-VIP Laminate & Lanyard -Crowd-free merchandise shoppin
 g -LIMITED AVAILABILITY - DOES NOT INCLUDE TICKET to the show\n\nTicket Li
 nk: https://www.lyrictheatre.com/show/11519-wishbone-ash-featuring-argus-l
 ive
DTSTART;TZID=America/New_York:20260315T173000
DTEND;TZID=America/New_York:20260315T183000
LOCATION:The Lyric Theatre
SUMMARY:MEET & GREET for Wishbone Ash Featuring Argus Live Wishlist Tour at
  The Lyric Theatre
END:VEVENT
END:VCALENDAR
