BEGIN:VCALENDAR
VERSION:2.0
PRODID:-//www.martinarts.org//NONSGML kigkonsult.se iCalcreator 2.30.10//
CALSCALE:GREGORIAN
METHOD:PUBLISH
UID:763cb9dd-4263-4e0a-bde8-0008c0e84730
X-WR-CALDESC:Wishbone Ash emerged in 1969 during a creatively fertile time 
 in music history\, as progressive rock was gaining momentum. Drawing on in
 fluences from British folk\, American jazz\, and R&B\, the band quickly ga
 ined acclaim for their melodic sound and innovative twin lead guitar appro
 ach\, which became a defining trait of their music. Over the next five dec
 ades\, Wishbone Ash built a loyal global following through relentless tour
 ing and a strong catalog of albums. Founding member Andy Powell continues 
 to lead the band\, joined by longtime bassist Bob Skeat\, guitarist Mark A
 brahams\, and drummer Mike Truscott. Their influence has reached generatio
 ns of rock bands\, from Thin Lizzy and Iron Maiden to modern acts like Ope
 th. Wishbone Ash’s recording legacy includes classic albums like Argus\, P
 ilgrimage\, and New England\, as well as later praised releases such as Bl
 ue Horizon and Coat of Arms.\n\nTicket link: https://www.lyrictheatre.com/
 show/11519-wishbone-ash-featuring-argus-live
X-WR-RELCALID:f48bc6ef10b66f896ca8df5b94e6b5e8
X-WR-TIMEZONE:America/New_York
BEGIN:VTIMEZONE
TZID:America/New_York
BEGIN:STANDARD
TZNAME:EST
DTSTART:20251102T020000
TZOFFSETFROM:-0400
TZOFFSETTO:-0500
RDATE:20261101T020000
END:STANDARD
BEGIN:DAYLIGHT
TZNAME:EDT
DTSTART:20260308T020000
TZOFFSETFROM:-0500
TZOFFSETTO:-0400
RDATE:20270314T020000
END:DAYLIGHT
END:VTIMEZONE
BEGIN:VEVENT
UID:0b596961-5b64-44f6-badf-a52b57bb1eca
DTSTAMP:20260424T101147Z
DESCRIPTION:Wishbone Ash emerged in 1969 during a creatively fertile time i
 n music history\, as progressive rock was gaining momentum. Drawing on inf
 luences from British folk\, American jazz\, and R&B\, the band quickly gai
 ned acclaim for their melodic sound and innovative twin lead guitar approa
 ch\, which became a defining trait of their music. Over the next five deca
 des\, Wishbone Ash built a loyal global following through relentless touri
 ng and a strong catalog of albums. Founding member Andy Powell continues t
 o lead the band\, joined by longtime bassist Bob Skeat\, guitarist Mark Ab
 rahams\, and drummer Mike Truscott. Their influence has reached generation
 s of rock bands\, from Thin Lizzy and Iron Maiden to modern acts like Opet
 h. Wishbone Ash’s recording legacy includes classic albums like Argus\, Pi
 lgrimage\, and New England\, as well as later praised releases such as Blu
 e Horizon and Coat of Arms.\n\nTicket link: https://www.lyrictheatre.com/s
 how/11519-wishbone-ash-featuring-argus-live
DTSTART;TZID=America/New_York:20260315T190000
DTEND;TZID=America/New_York:20260315T210000
LOCATION:59 SW Flagler Ave\, Stuart\, FL 34994 US
SUMMARY:Wishbone Ash Featuring Argus Live Wishlist Tour
END:VEVENT
END:VCALENDAR
