BEGIN:VCALENDAR
VERSION:2.0
PRODID:-//www.martinarts.org//NONSGML kigkonsult.se iCalcreator 2.30.10//
CALSCALE:GREGORIAN
METHOD:PUBLISH
UID:25fa70a5-0dab-4fb9-8f59-aad92db85c0d
X-WR-CALDESC:In the world of music photography\, Henry Diltz occupied the u
 pper strata of legendary photographers. His images of popular musicians of
  the Sixties and Seventies defined the musical landscape of that time\, wh
 en you were part of the band and a photographer could create lasting frien
 dships and document each artist’s beginning through their assent to greatn
 ess. Behind The Lens is a one-hour plus visual feast of music photography 
 and stories as told from one of the worlds iconic music photographers who 
 documented those memorable times. Henry Diltz takes you on a visual and st
 ory-telling journey of some of the most famous album covers and musical ar
 tists ever documented. Featuring The Doors\, Eagles\, Crosby Stills & Nash
 \, James Taylor\, Linda Ronstadt\, Jackson Browne\, Woodstock and many mor
 e… and the stories! You will be taken far behind the scenes of what the Si
 xties and Seventies were really all about in this authentic\, heart-warmin
 g and humorous ride that only Henry Diltz can provide.\n\nTicket link: htt
 ps://www.lyrictheatre.com/show/11728-behind-the-lens-california-dreamin-wi
 th-henry-diltz
X-WR-RELCALID:b8d723f664b293792da9a89593ea25fc
X-WR-TIMEZONE:America/New_York
BEGIN:VTIMEZONE
TZID:America/New_York
BEGIN:STANDARD
TZNAME:EST
DTSTART:20251102T020000
TZOFFSETFROM:-0400
TZOFFSETTO:-0500
RDATE:20261101T020000
END:STANDARD
BEGIN:DAYLIGHT
TZNAME:EDT
DTSTART:20260308T020000
TZOFFSETFROM:-0500
TZOFFSETTO:-0400
RDATE:20270314T020000
END:DAYLIGHT
END:VTIMEZONE
BEGIN:VEVENT
UID:26f8c92a-bbfe-4689-965b-e13001d49a0e
DTSTAMP:20260424T102748Z
DESCRIPTION:In the world of music photography\, Henry Diltz occupied the up
 per strata of legendary photographers. His images of popular musicians of 
 the Sixties and Seventies defined the musical landscape of that time\, whe
 n you were part of the band and a photographer could create lasting friend
 ships and document each artist’s beginning through their assent to greatne
 ss. Behind The Lens is a one-hour plus visual feast of music photography a
 nd stories as told from one of the worlds iconic music photographers who d
 ocumented those memorable times. Henry Diltz takes you on a visual and sto
 ry-telling journey of some of the most famous album covers and musical art
 ists ever documented. Featuring The Doors\, Eagles\, Crosby Stills & Nash\
 , James Taylor\, Linda Ronstadt\, Jackson Browne\, Woodstock and many more
 … and the stories! You will be taken far behind the scenes of what the Six
 ties and Seventies were really all about in this authentic\, heart-warming
  and humorous ride that only Henry Diltz can provide.\n\nTicket link: http
 s://www.lyrictheatre.com/show/11728-behind-the-lens-california-dreamin-wit
 h-henry-diltz
DTSTART;TZID=America/New_York:20260321T190000
DTEND;TZID=America/New_York:20260321T210000
LOCATION:59 SW Flagler Ave\, Stuart\, FL 34994 US
SUMMARY:Behind the Lens: California Dreamin’ with Henry Diltz
END:VEVENT
END:VCALENDAR
