BEGIN:VCALENDAR
VERSION:2.0
PRODID:-//www.martinarts.org//NONSGML kigkonsult.se iCalcreator 2.30.10//
CALSCALE:GREGORIAN
METHOD:PUBLISH
UID:08c81b77-93d7-4dfc-946b-388a56239569
X-WR-CALDESC:Prepare to be amazed by Treasure Coast student performers in t
 he 10th annual Youth Arts Celebration! Young entertainers\, grades 12 and 
 under\, will take to The Lyric stage in this dynamic talent showcase to re
 present their passions and dedication through various forms of performing 
 arts. The Youth Arts Celebration is not a contest but rather an opportunit
 y to recognize these students for their commitment to their craft\, the co
 urage to express themselves and their love of the arts. The emerging artis
 ts are diverse in their talents and backgrounds\, but all are united by th
 eir love of performing. While not all of the participants have aspirations
  of performing professionally\, they are clearly benefiting from their art
 s education\, demonstrating positive\, respectful\, focused behavior and s
 upport for one another. Beyond the appeal of the bright lights and thunder
 ous applause\, these talented performers also benefit from the sharing and
  exchanging of ideas\, exposure to different styles of art\n\nTicket Link:
  https://www.lyrictheatre.com/show/11743-youth-arts-celebration-2026
X-WR-RELCALID:e243d88a3761d2d8a278a30e14d56872
X-WR-TIMEZONE:America/New_York
BEGIN:VTIMEZONE
TZID:America/New_York
BEGIN:STANDARD
TZNAME:EST
DTSTART:20251102T020000
TZOFFSETFROM:-0400
TZOFFSETTO:-0500
RDATE:20261101T020000
END:STANDARD
BEGIN:DAYLIGHT
TZNAME:EDT
DTSTART:20260308T020000
TZOFFSETFROM:-0500
TZOFFSETTO:-0400
RDATE:20270314T020000
END:DAYLIGHT
END:VTIMEZONE
BEGIN:VEVENT
UID:05e193e9-b39f-4c28-a0bf-cf95659a8e7e
DTSTAMP:20260424T102836Z
DESCRIPTION:Prepare to be amazed by Treasure Coast student performers in th
 e 10th annual Youth Arts Celebration! Young entertainers\, grades 12 and u
 nder\, will take to The Lyric stage in this dynamic talent showcase to rep
 resent their passions and dedication through various forms of performing a
 rts. The Youth Arts Celebration is not a contest but rather an opportunity
  to recognize these students for their commitment to their craft\, the cou
 rage to express themselves and their love of the arts. The emerging artist
 s are diverse in their talents and backgrounds\, but all are united by the
 ir love of performing. While not all of the participants have aspirations 
 of performing professionally\, they are clearly benefiting from their arts
  education\, demonstrating positive\, respectful\, focused behavior and su
 pport for one another. Beyond the appeal of the bright lights and thundero
 us applause\, these talented performers also benefit from the sharing and 
 exchanging of ideas\, exposure to different styles of art\n\nTicket Link: 
 https://www.lyrictheatre.com/show/11743-youth-arts-celebration-2026
DTSTART;TZID=America/New_York:20260322T180000
DTEND;TZID=America/New_York:20260322T200000
LOCATION:The Lyric Theatre
SUMMARY:Youth Arts Celebration 2026 at The Lyric Theatre
END:VEVENT
END:VCALENDAR
