BEGIN:VCALENDAR
VERSION:2.0
PRODID:-//www.martinarts.org//NONSGML kigkonsult.se iCalcreator 2.30.10//
CALSCALE:GREGORIAN
METHOD:PUBLISH
UID:c8677e76-867d-47f6-9130-8476acc811ce
X-WR-CALDESC:Great artists take the pulse of their times. In his half-centu
 ry as a street-level social observer and scaldingly honest songwriter\, bl
 ues-rock’s resilient icon Walter Trout has never told his fans what to thi
 nk\, how to feel\, where to stand politically\, or what to scrawl on their
  protest placards. But in an era when his home nation – and the wider worl
 d – is ripping at the seams over the battlelines of modern life\, the icon
 ic US bluesman’s hard-rocking new album\, Sign Of The Times\, is the prima
 l scream and pressure valve we all desperately need. “I wanted to convey t
 he anger and angst going on in the world\,” explains the 74-year-old. “For
  me\, writing these songs is therapy. They’re not just about what’s happen
 ing out there\, but how it affects you in your head. Sign Of The Times jus
 t became the obvious title…”\n\nTicket Link: https://www.lyrictheatre.com/
 show/11768-walter-trout
X-WR-RELCALID:85a1fa51d221766d4de25fc1b9abeb54
X-WR-TIMEZONE:America/New_York
BEGIN:VTIMEZONE
TZID:America/New_York
BEGIN:STANDARD
TZNAME:EST
DTSTART:20251102T020000
TZOFFSETFROM:-0400
TZOFFSETTO:-0500
RDATE:20261101T020000
END:STANDARD
BEGIN:DAYLIGHT
TZNAME:EDT
DTSTART:20260308T020000
TZOFFSETFROM:-0500
TZOFFSETTO:-0400
RDATE:20270314T020000
END:DAYLIGHT
END:VTIMEZONE
BEGIN:VEVENT
UID:b177e2c7-61e9-442e-8fc5-6593a7c463fb
DTSTAMP:20260424T102530Z
DESCRIPTION:Great artists take the pulse of their times. In his half-centur
 y as a street-level social observer and scaldingly honest songwriter\, blu
 es-rock’s resilient icon Walter Trout has never told his fans what to thin
 k\, how to feel\, where to stand politically\, or what to scrawl on their 
 protest placards. But in an era when his home nation – and the wider world
  – is ripping at the seams over the battlelines of modern life\, the iconi
 c US bluesman’s hard-rocking new album\, Sign Of The Times\, is the primal
  scream and pressure valve we all desperately need. “I wanted to convey th
 e anger and angst going on in the world\,” explains the 74-year-old. “For 
 me\, writing these songs is therapy. They’re not just about what’s happeni
 ng out there\, but how it affects you in your head. Sign Of The Times just
  became the obvious title…”\n\nTicket Link: https://www.lyrictheatre.com/s
 how/11768-walter-trout
DTSTART;TZID=America/New_York:20260325T190000
DTEND;TZID=America/New_York:20260325T210000
LOCATION:The Lyric Theatre
SUMMARY:Walter Trout at The Lyric Theatre
END:VEVENT
END:VCALENDAR
