BEGIN:VCALENDAR
VERSION:2.0
PRODID:-//www.martinarts.org//NONSGML kigkonsult.se iCalcreator 2.30.10//
CALSCALE:GREGORIAN
METHOD:PUBLISH
UID:c6955546-0d44-4842-97af-ed7258a719e1
X-WR-CALDESC:Step into the rhythm and soul of a legendary era with 'A Tribu
 te Celebrating the Legends of Motown\,' a captivating show that honors the
  iconic sounds of Motown's male groups\, this tribute revives the magic th
 at defined a generation and continues to inspire music lovers today. With 
 a blend of nostalgia and energetic performances\, our talented cast from L
 as Vegas brings to life the timeless classics and heartfelt ballads that m
 ade Motown a cornerstone of American music. Experience the stories behind 
 the hits\, the unforgettable choreography\, and the rich history of the Mo
 town label as we pay homage to the artists who shaped the soundtrack of ou
 r lives. Join us on this musical journey\, where each note and lyric refle
 cts the spirit of resilience\, love\, and unity that Motown embodies. Get 
 ready to sing\, dance\, and celebrate the legends who turned music into a 
 movement!\n\nTicket link: https://www.lyrictheatre.com/show/11605-a-tribut
 e-celebrating-the-legends-of-motown
X-WR-RELCALID:4b9231b5d5316a9c9c95049ac6c77fe8
X-WR-TIMEZONE:America/New_York
BEGIN:VTIMEZONE
TZID:America/New_York
BEGIN:STANDARD
TZNAME:EST
DTSTART:20251102T020000
TZOFFSETFROM:-0400
TZOFFSETTO:-0500
RDATE:20261101T020000
END:STANDARD
BEGIN:DAYLIGHT
TZNAME:EDT
DTSTART:20260308T020000
TZOFFSETFROM:-0500
TZOFFSETTO:-0400
RDATE:20270314T020000
END:DAYLIGHT
END:VTIMEZONE
BEGIN:VEVENT
UID:b209dc45-a06c-4c5d-a5cc-3a6e47377f93
DTSTAMP:20260424T102837Z
DESCRIPTION:Step into the rhythm and soul of a legendary era with 'A Tribut
 e Celebrating the Legends of Motown\,' a captivating show that honors the 
 iconic sounds of Motown's male groups\, this tribute revives the magic tha
 t defined a generation and continues to inspire music lovers today. With a
  blend of nostalgia and energetic performances\, our talented cast from La
 s Vegas brings to life the timeless classics and heartfelt ballads that ma
 de Motown a cornerstone of American music. Experience the stories behind t
 he hits\, the unforgettable choreography\, and the rich history of the Mot
 own label as we pay homage to the artists who shaped the soundtrack of our
  lives. Join us on this musical journey\, where each note and lyric reflec
 ts the spirit of resilience\, love\, and unity that Motown embodies. Get r
 eady to sing\, dance\, and celebrate the legends who turned music into a m
 ovement!\n\nTicket link: https://www.lyrictheatre.com/show/11605-a-tribute
 -celebrating-the-legends-of-motown
DTSTART;TZID=America/New_York:20260326T190000
DTEND;TZID=America/New_York:20260326T210000
LOCATION:59 SW Flagler Ave\, Stuart\, FL 34994 US
SUMMARY:A Tribute Celebrating the Legends of Motown
END:VEVENT
END:VCALENDAR
