BEGIN:VCALENDAR
VERSION:2.0
PRODID:-//www.martinarts.org//NONSGML kigkonsult.se iCalcreator 2.30.10//
CALSCALE:GREGORIAN
METHOD:PUBLISH
UID:e5b070d2-6fd7-4168-9d42-daa6ddbf4df2
X-WR-CALDESC:Your favorite songs from movies like Jurassic Park\, Star Wars
  and musicals like the Music Man and the Sound of Music- plus a few surpri
 ses\n\nirpopsorchestra.org
X-WR-RELCALID:458d477777f44ac2e5b4ef1c3bc2e3bf
X-WR-TIMEZONE:America/New_York
BEGIN:VTIMEZONE
TZID:America/New_York
BEGIN:STANDARD
TZNAME:EST
DTSTART:20251102T020000
TZOFFSETFROM:-0400
TZOFFSETTO:-0500
RDATE:20261101T020000
END:STANDARD
BEGIN:DAYLIGHT
TZNAME:EDT
DTSTART:20260308T020000
TZOFFSETFROM:-0500
TZOFFSETTO:-0400
RDATE:20270314T020000
END:DAYLIGHT
END:VTIMEZONE
BEGIN:VEVENT
UID:dba536c8-a3d0-447d-97ee-c63f2717e600
DTSTAMP:20260424T102652Z
DESCRIPTION:Your favorite songs from movies like Jurassic Park\, Star Wars 
 and musicals like the Music Man and the Sound of Music- plus a few surpris
 es\n\nirpopsorchestra.org
DTSTART;TZID=America/New_York:20260327T190000
DTEND;TZID=America/New_York:20260327T210000
LOCATION:2195 SE Airoso Blvd\, Port St Lucie\, FL 34984 US
SUMMARY:Movies\, Musicals & More
END:VEVENT
END:VCALENDAR
