BEGIN:VCALENDAR
VERSION:2.0
PRODID:-//www.martinarts.org//NONSGML kigkonsult.se iCalcreator 2.30.10//
CALSCALE:GREGORIAN
METHOD:PUBLISH
UID:230a1543-3536-4954-a471-1a881000612b
X-WR-CALDESC:Join us for a tour of Hobe Sound's galleries\, murals\, studio
 s and independent artists.\n\nhttps://www.facebook.com/share/1HgzL6fR9e/
X-WR-RELCALID:b953caed9e027e79c6eddb81fae2149d
X-WR-TIMEZONE:America/New_York
BEGIN:VTIMEZONE
TZID:America/New_York
BEGIN:STANDARD
TZNAME:EST
DTSTART:20251102T020000
TZOFFSETFROM:-0400
TZOFFSETTO:-0500
RDATE:20261101T020000
END:STANDARD
BEGIN:DAYLIGHT
TZNAME:EDT
DTSTART:20260308T020000
TZOFFSETFROM:-0500
TZOFFSETTO:-0400
RDATE:20270314T020000
END:DAYLIGHT
END:VTIMEZONE
BEGIN:VEVENT
UID:e0cd5e83-0bcf-4822-b0f6-5d8f94915991
DTSTAMP:20260424T102651Z
DESCRIPTION:Join us for a tour of Hobe Sound's galleries\, murals\, studios
  and independent artists.\n\nhttps://www.facebook.com/share/1HgzL6fR9e/
DTSTART;TZID=America/New_York:20260328T100000
DTEND;TZID=America/New_York:20260328T160000
LOCATION:Hobe Sound
SUMMARY:Hobe Sound Arts Tour
END:VEVENT
END:VCALENDAR
