BEGIN:VCALENDAR
VERSION:2.0
PRODID:-//www.martinarts.org//NONSGML kigkonsult.se iCalcreator 2.30.10//
CALSCALE:GREGORIAN
METHOD:PUBLISH
UID:29b99da0-6c65-427d-8157-6e4f8e34b1ff
X-WR-CALDESC:3 Stages. 2 Parks. 1 Community. A FREE Community Event in Down
 town Stuart We’re taking the celebration beyond our walls and into the hea
 rt of Downtown. Wander between parks. Enjoy live performances and family-f
 riendly activities. Bring your blankets\, lawn chairs\, and your friends. 
 Dine\, shop\, and explore the incredible local restaurants and businesses.
  Come early. Stay late. Make a day of it. CentenFest is designed to celebr
 ate not just our theatre\, but you - our community. This event is 100 year
 s in the making. Help us launch the next 100 years.\n\nhttps://www.lyricth
 eatre.com/show/11805-centenfest-a-free-community-event
X-WR-RELCALID:5d22f30d6a0fc3fcef9c7f19c1d52360
X-WR-TIMEZONE:America/New_York
BEGIN:VTIMEZONE
TZID:America/New_York
BEGIN:STANDARD
TZNAME:EST
DTSTART:20251102T020000
TZOFFSETFROM:-0400
TZOFFSETTO:-0500
RDATE:20261101T020000
END:STANDARD
BEGIN:DAYLIGHT
TZNAME:EDT
DTSTART:20260308T020000
TZOFFSETFROM:-0500
TZOFFSETTO:-0400
RDATE:20270314T020000
END:DAYLIGHT
END:VTIMEZONE
BEGIN:VEVENT
UID:61db4a17-8bae-45f7-b8a9-579857e8525d
DTSTAMP:20260424T102814Z
DESCRIPTION:3 Stages. 2 Parks. 1 Community. A FREE Community Event in Downt
 own Stuart We’re taking the celebration beyond our walls and into the hear
 t of Downtown. Wander between parks. Enjoy live performances and family-fr
 iendly activities. Bring your blankets\, lawn chairs\, and your friends. D
 ine\, shop\, and explore the incredible local restaurants and businesses. 
 Come early. Stay late. Make a day of it. CentenFest is designed to celebra
 te not just our theatre\, but you - our community. This event is 100 years
  in the making. Help us launch the next 100 years.\n\nhttps://www.lyricthe
 atre.com/show/11805-centenfest-a-free-community-event
DTSTART;TZID=America/New_York:20260328T100000
DTEND;TZID=America/New_York:20260328T203000
LOCATION:Downtown Stuart
SUMMARY:CentenFest - A FREE Community Event Celebrating 100 Years of Commun
 ity\, Connection and Creativity
END:VEVENT
END:VCALENDAR
