BEGIN:VCALENDAR
VERSION:2.0
PRODID:-//www.martinarts.org//NONSGML kigkonsult.se iCalcreator 2.30.10//
CALSCALE:GREGORIAN
METHOD:PUBLISH
UID:0cf1e730-bb90-4119-a238-2811d72a954d
X-WR-CALDESC:Join us for a tour of Hobe Sound's galleries\, murals\, studio
 s and independent artists.\n\nhttps://www.facebook.com/share/1HgzL6fR9e/
X-WR-RELCALID:99f2a9084cde5bbaed2a2ab8980efc8f
X-WR-TIMEZONE:America/New_York
BEGIN:VTIMEZONE
TZID:America/New_York
BEGIN:STANDARD
TZNAME:EST
DTSTART:20251102T020000
TZOFFSETFROM:-0400
TZOFFSETTO:-0500
RDATE:20261101T020000
END:STANDARD
BEGIN:DAYLIGHT
TZNAME:EDT
DTSTART:20260308T020000
TZOFFSETFROM:-0500
TZOFFSETTO:-0400
RDATE:20270314T020000
END:DAYLIGHT
END:VTIMEZONE
BEGIN:VEVENT
UID:6a0f8b00-3b51-4e4e-88ee-3e18133b1728
DTSTAMP:20260424T102747Z
DESCRIPTION:Join us for a tour of Hobe Sound's galleries\, murals\, studios
  and independent artists.\n\nhttps://www.facebook.com/share/1HgzL6fR9e/
DTSTART;TZID=America/New_York:20260329T100000
DTEND;TZID=America/New_York:20260329T160000
LOCATION:Hobe Sound
SUMMARY:Hobe Sound Arts Tour
END:VEVENT
END:VCALENDAR
