BEGIN:VCALENDAR
VERSION:2.0
PRODID:-//www.martinarts.org//NONSGML kigkonsult.se iCalcreator 2.30.10//
CALSCALE:GREGORIAN
METHOD:PUBLISH
UID:1b434efe-d1ee-468f-b3a7-872865fed4b3
X-WR-CALDESC:Open Studio with Denise Justice at the Artist's Nook located w
 ithin Stuart Art Supply.\n\nChoose your medium!\n\nFor more information\nE
 mail Denise denisejusticeart@gmail.com\n\n
X-WR-RELCALID:c356a32c63e7ccca929a2d45d89f286b
X-WR-TIMEZONE:America/New_York
BEGIN:VTIMEZONE
TZID:America/New_York
BEGIN:STANDARD
TZNAME:EST
DTSTART:20251102T020000
TZOFFSETFROM:-0400
TZOFFSETTO:-0500
RDATE:20261101T020000
END:STANDARD
BEGIN:DAYLIGHT
TZNAME:EDT
DTSTART:20260308T020000
TZOFFSETFROM:-0500
TZOFFSETTO:-0400
RDATE:20270314T020000
END:DAYLIGHT
END:VTIMEZONE
BEGIN:VEVENT
UID:d8a119a6-96a4-4d15-9f31-ddb15d79e590
DTSTAMP:20260424T100841Z
DESCRIPTION:Open Studio with Denise Justice at the Artist's Nook located wi
 thin Stuart Art Supply.\n\nChoose your medium!\n\nFor more information\nEm
 ail Denise denisejusticeart@gmail.com\n\n
DTSTART;TZID=America/New_York:20260330T090000
DTEND;TZID=America/New_York:20260330T120000
LOCATION:Stuart Art Supply
SUMMARY:Open Studio w/ Denise Justice
END:VEVENT
END:VCALENDAR
