BEGIN:VCALENDAR
VERSION:2.0
PRODID:-//www.martinarts.org//NONSGML kigkonsult.se iCalcreator 2.30.10//
CALSCALE:GREGORIAN
METHOD:PUBLISH
UID:d0f8ac89-63a0-48cf-937e-e8387b3d9467
X-WR-CALDESC:Art Lessons (various mediums)\n1:00 PM - 4:00 PM\n\nContact Br
 enda for Information:\nPhone:772.221.7640\nEmail - brendaleigh737@gmail.co
 m
X-WR-RELCALID:51cb3a973bff6f298bc02c869af1344b
X-WR-TIMEZONE:America/New_York
BEGIN:VTIMEZONE
TZID:America/New_York
BEGIN:STANDARD
TZNAME:EST
DTSTART:20251102T020000
TZOFFSETFROM:-0400
TZOFFSETTO:-0500
RDATE:20261101T020000
END:STANDARD
BEGIN:DAYLIGHT
TZNAME:EDT
DTSTART:20260308T020000
TZOFFSETFROM:-0500
TZOFFSETTO:-0400
RDATE:20270314T020000
END:DAYLIGHT
END:VTIMEZONE
BEGIN:VEVENT
UID:2514d1b2-00e1-403d-9d8c-98c924d682fe
DTSTAMP:20260424T085540Z
DESCRIPTION:Art Lessons (various mediums)\n1:00 PM - 4:00 PM\n\nContact Bre
 nda for Information:\nPhone:772.221.7640\nEmail - brendaleigh737@gmail.com
DTSTART;TZID=America/New_York:20260401T130000
DTEND;TZID=America/New_York:20260401T160000
LOCATION:Stuart Art Supply & Studio | 43 Kindred Street Stuart FL 34994
SUMMARY:Art Lessons with Brenda Leigh
END:VEVENT
END:VCALENDAR
