BEGIN:VCALENDAR
VERSION:2.0
PRODID:-//www.martinarts.org//NONSGML kigkonsult.se iCalcreator 2.30.10//
CALSCALE:GREGORIAN
METHOD:PUBLISH
UID:16bcf481-6efb-49b5-b142-510947204378
X-WR-CALDESC:Some musicians play music. Others make you feel it. Diane Wenz
 el is bringing her solo acoustic set to Culture Shift Elixery! A seasoned 
 performer with over 15 years on the Treasure Coast\, Diane has a gift for 
 reaching the souls of every audience she plays for\, using music as the un
 iversal language it was always meant to be. Expect a repertoire that takes
  you on a journey through time! Come pull up a seat\, sip something good\,
  and get lost in every note.\n\nhttps://www.facebook.com/share/1E8ov6iVXm/
X-WR-RELCALID:d033f4c42344b9b23fcf4d16c18cf722
X-WR-TIMEZONE:America/New_York
BEGIN:VTIMEZONE
TZID:America/New_York
BEGIN:STANDARD
TZNAME:EST
DTSTART:20251102T020000
TZOFFSETFROM:-0400
TZOFFSETTO:-0500
RDATE:20261101T020000
END:STANDARD
BEGIN:DAYLIGHT
TZNAME:EDT
DTSTART:20260308T020000
TZOFFSETFROM:-0500
TZOFFSETTO:-0400
RDATE:20270314T020000
END:DAYLIGHT
END:VTIMEZONE
BEGIN:VEVENT
UID:d010fe42-236e-4083-b80e-015876b4dc11
DTSTAMP:20260424T090137Z
DESCRIPTION:Some musicians play music. Others make you feel it. Diane Wenze
 l is bringing her solo acoustic set to Culture Shift Elixery! A seasoned p
 erformer with over 15 years on the Treasure Coast\, Diane has a gift for r
 eaching the souls of every audience she plays for\, using music as the uni
 versal language it was always meant to be. Expect a repertoire that takes 
 you on a journey through time! Come pull up a seat\, sip something good\, 
 and get lost in every note.\n\nhttps://www.facebook.com/share/1E8ov6iVXm/
DTSTART;TZID=America/New_York:20260401T183000
DTEND;TZID=America/New_York:20260401T213000
LOCATION:2196 SE Ocean Blvd\, Stuart\, FL 34996 US
SUMMARY:Free Acoustic Show with Diane Wenzel of Juke Chapel Duo and Clapton
  Anthology Band
END:VEVENT
END:VCALENDAR
