BEGIN:VCALENDAR
VERSION:2.0
PRODID:-//www.martinarts.org//NONSGML kigkonsult.se iCalcreator 2.30.10//
CALSCALE:GREGORIAN
METHOD:PUBLISH
UID:c8342888-d7ee-473b-8691-aa3fdaad768d
X-WR-CALDESC:Brahms- Variations on a Theme of Haydn\, op.56a / Mozart- Conc
 erto No. 4 in Eb major for Horn\, K. 495 featuring Karen Schubert\, horn /
  Hindemith- Symphonic Metamorphosis of Themes by Carl Maria von Weber\n\nT
 icket Link: https://atlanticclassicalorchestra.my.salesforce-sites.com/tic
 ket/#/events/a0SPM000001lp1h2AA
X-WR-RELCALID:bcdba276d09964b08fcb9286abd9e137
X-WR-TIMEZONE:America/New_York
BEGIN:VTIMEZONE
TZID:America/New_York
BEGIN:STANDARD
TZNAME:EST
DTSTART:20251102T020000
TZOFFSETFROM:-0400
TZOFFSETTO:-0500
RDATE:20261101T020000
END:STANDARD
BEGIN:DAYLIGHT
TZNAME:EDT
DTSTART:20260308T020000
TZOFFSETFROM:-0500
TZOFFSETTO:-0400
RDATE:20270314T020000
END:DAYLIGHT
END:VTIMEZONE
BEGIN:VEVENT
UID:0b81d3c2-f7aa-4909-b5c6-945e857ba6c8
DTSTAMP:20260424T084343Z
DESCRIPTION:Brahms- Variations on a Theme of Haydn\, op.56a / Mozart- Conce
 rto No. 4 in Eb major for Horn\, K. 495 featuring Karen Schubert\, horn / 
 Hindemith- Symphonic Metamorphosis of Themes by Carl Maria von Weber\n\nTi
 cket Link: https://atlanticclassicalorchestra.my.salesforce-sites.com/tick
 et/#/events/a0SPM000001lp1h2AA
DTSTART;TZID=America/New_York:20260410T193000
DTEND;TZID=America/New_York:20260410T210000
LOCATION:The Lyric Theatre
SUMMARY:Masterworks Series IV
END:VEVENT
END:VCALENDAR
