BEGIN:VCALENDAR
VERSION:2.0
PRODID:-//www.martinarts.org//NONSGML kigkonsult.se iCalcreator 2.30.10//
CALSCALE:GREGORIAN
METHOD:PUBLISH
UID:2e6a1a46-c1ad-4358-9a60-cd5ac927adca
X-WR-CALDESC:Oil Painting Classes with Artist Karen Leffel-Massengill held 
 at at The Artists' Nook located within Stuart Art Supply.\n\nContact Karen
  at karenleffel@comcast.net\nphone: 772.263.6061
X-WR-RELCALID:8d40c025cc01a96c5c0b291868f61644
X-WR-TIMEZONE:America/New_York
BEGIN:VTIMEZONE
TZID:America/New_York
BEGIN:STANDARD
TZNAME:EST
DTSTART:20251102T020000
TZOFFSETFROM:-0400
TZOFFSETTO:-0500
RDATE:20261101T020000
END:STANDARD
BEGIN:DAYLIGHT
TZNAME:EDT
DTSTART:20260308T020000
TZOFFSETFROM:-0500
TZOFFSETTO:-0400
RDATE:20270314T020000
END:DAYLIGHT
END:VTIMEZONE
BEGIN:VEVENT
UID:bd68c908-3965-4743-b26f-b065b4b09331
DTSTAMP:20260424T090128Z
DESCRIPTION:Oil Painting Classes with Artist Karen Leffel-Massengill held a
 t at The Artists' Nook located within Stuart Art Supply.\n\nContact Karen 
 at karenleffel@comcast.net\nphone: 772.263.6061
DTSTART;TZID=America/New_York:20260414T090000
DTEND;TZID=America/New_York:20260414T120000
LOCATION:Stuart Art Supply & Studio | 43 Kindred Street Stuart FL 34994
SUMMARY:Oil Painting Classes with Artist Karen Leffel-Massengill
END:VEVENT
END:VCALENDAR
