BEGIN:VCALENDAR
VERSION:2.0
PRODID:-//www.martinarts.org//NONSGML kigkonsult.se iCalcreator 2.30.10//
CALSCALE:GREGORIAN
METHOD:PUBLISH
UID:58c40254-e75f-4e8d-ace3-7a2f27ba2e43
X-WR-CALDESC:“Outstanding Students of the renowned Stuart School of Music” 
 directed by Cindy Kessler.\n\n• Admission: $5 for non-members\; free for c
 urrent MartinArts members (based on membership level)\n• Open to the publi
 c.\n• Advanced registration closes 1 hour prior to performance.\n
X-WR-RELCALID:d6199f6e8d17ea8e135860c544016cef
X-WR-TIMEZONE:America/New_York
BEGIN:VTIMEZONE
TZID:America/New_York
BEGIN:STANDARD
TZNAME:EST
DTSTART:20251102T020000
TZOFFSETFROM:-0400
TZOFFSETTO:-0500
RDATE:20261101T020000
END:STANDARD
BEGIN:DAYLIGHT
TZNAME:EDT
DTSTART:20260308T020000
TZOFFSETFROM:-0500
TZOFFSETTO:-0400
RDATE:20270314T020000
END:DAYLIGHT
END:VTIMEZONE
BEGIN:VEVENT
UID:59a69796-1f92-4cee-8751-a0833969ef26
DTSTAMP:20260424T085334Z
DESCRIPTION:“Outstanding Students of the renowned Stuart School of Music” d
 irected by Cindy Kessler.\n\n• Admission: $5 for non-members\; free for cu
 rrent MartinArts members (based on membership level)\n• Open to the public
 .\n• Advanced registration closes 1 hour prior to performance.\n
DTSTART;TZID=America/New_York:20260414T173000
DTEND;TZID=America/New_York:20260414T183000
LOCATION:Court House Cultural Center\, 80 SE Ocean Blvd.\, Stuart\, FL 3499
 4 US
SUMMARY:Sunset Concerts at the Gallery
END:VEVENT
END:VCALENDAR
