BEGIN:VCALENDAR
VERSION:2.0
PRODID:-//www.martinarts.org//NONSGML kigkonsult.se iCalcreator 2.30.10//
CALSCALE:GREGORIAN
METHOD:PUBLISH
UID:d05d1665-7683-497d-a7ee-50bc6860c0b4
X-WR-CALDESC:
X-WR-RELCALID:bae5a04e49eb6ffc82aaf83160348986
X-WR-TIMEZONE:America/New_York
BEGIN:VTIMEZONE
TZID:America/New_York
BEGIN:STANDARD
TZNAME:EST
DTSTART:20251102T020000
TZOFFSETFROM:-0400
TZOFFSETTO:-0500
RDATE:20261101T020000
END:STANDARD
BEGIN:DAYLIGHT
TZNAME:EDT
DTSTART:20260308T020000
TZOFFSETFROM:-0500
TZOFFSETTO:-0400
RDATE:20270314T020000
END:DAYLIGHT
END:VTIMEZONE
BEGIN:VEVENT
UID:ba1faebe-7891-4128-ba87-00be502621e1
DTSTAMP:20260424T084339Z
DESCRIPTION:
DTSTART;TZID=America/New_York:20260423T173000
DTEND;TZID=America/New_York:20260423T183000
LOCATION:80 SE Ocean Blvd\, Stuart\, FL 34994 US
SUMMARY:MartinArts Council Board Meeting
END:VEVENT
END:VCALENDAR
