BEGIN:VCALENDAR
VERSION:2.0
PRODID:-//www.martinarts.org//NONSGML kigkonsult.se iCalcreator 2.30.10//
CALSCALE:GREGORIAN
METHOD:PUBLISH
UID:a0ed110b-63cc-4b57-8d36-3cb6d70e5900
X-WR-CALDESC:Enjoy FREE Quality\, Family-friendly Live Music on Our Beautif
 ul Waterfront Stage\nEvery Sunday 1:00 pm -4:00 pm
X-WR-RELCALID:60e2c2649650a64f05e8e4da9fee88db
X-WR-TIMEZONE:America/New_York
BEGIN:VTIMEZONE
TZID:America/New_York
BEGIN:STANDARD
TZNAME:EST
DTSTART:20251102T020000
TZOFFSETFROM:-0400
TZOFFSETTO:-0500
RDATE:20261101T020000
END:STANDARD
BEGIN:DAYLIGHT
TZNAME:EDT
DTSTART:20260308T020000
TZOFFSETFROM:-0500
TZOFFSETTO:-0400
RDATE:20270314T020000
END:DAYLIGHT
END:VTIMEZONE
BEGIN:VEVENT
UID:9a8dd9b7-9307-4e1c-8d2e-40a375e4d37f
DTSTAMP:20260424T085304Z
DESCRIPTION:Enjoy FREE Quality\, Family-friendly Live Music on Our Beautifu
 l Waterfront Stage\nEvery Sunday 1:00 pm -4:00 pm
DTSTART;TZID=America/New_York:20260426T130000
DTEND;TZID=America/New_York:20260426T160000
LOCATION:Downtown Stuart at the Riverwalk Stage
SUMMARY:Rock'n Riverwalk
END:VEVENT
END:VCALENDAR
