BEGIN:VCALENDAR
VERSION:2.0
PRODID:-//www.martinarts.org//NONSGML kigkonsult.se iCalcreator 2.30.10//
CALSCALE:GREGORIAN
METHOD:PUBLISH
UID:6123a51f-5938-4b9d-88e6-b6613b10eb68
X-WR-CALDESC:Open Studio with Denise Justice at the Artists' Nook located w
 ithin Stuart Art Supply.\n \nPick a medium!\n\nFor more Information contac
 t Denise denisejusticeart@gmail.com
X-WR-RELCALID:2bd6d1906c29417a8f0b2ae2bab066b2
X-WR-TIMEZONE:America/New_York
BEGIN:VTIMEZONE
TZID:America/New_York
BEGIN:STANDARD
TZNAME:EST
DTSTART:20251102T020000
TZOFFSETFROM:-0400
TZOFFSETTO:-0500
RDATE:20261101T020000
END:STANDARD
BEGIN:DAYLIGHT
TZNAME:EDT
DTSTART:20260308T020000
TZOFFSETFROM:-0500
TZOFFSETTO:-0400
RDATE:20270314T020000
END:DAYLIGHT
END:VTIMEZONE
BEGIN:VEVENT
UID:b202f013-0376-4c69-967a-d702736f242e
DTSTAMP:20260424T085137Z
DESCRIPTION:Open Studio with Denise Justice at the Artists' Nook located wi
 thin Stuart Art Supply.\n \nPick a medium!\n\nFor more Information contact
  Denise denisejusticeart@gmail.com
DTSTART;TZID=America/New_York:20260427T130000
DTEND;TZID=America/New_York:20260427T160000
LOCATION:Stuart Art Supply & Studio | 43 Kindred Street Stuart FL 34994
SUMMARY:Open Studio w/ Denise Justice
END:VEVENT
END:VCALENDAR
