BEGIN:VCALENDAR
VERSION:2.0
PRODID:-//www.martinarts.org//NONSGML kigkonsult.se iCalcreator 2.30.10//
CALSCALE:GREGORIAN
METHOD:PUBLISH
UID:9f72f94e-22cf-4780-9b8b-2ed2ba10c4da
X-WR-CALDESC:Mothers and daughters from a local dance studio perform with t
 he orchestra to bird-themed music like Stravinsky’s Firebird Suite and Win
 d beneath my Wings.
X-WR-RELCALID:948a1d91b41658959046eb5843a6746c
X-WR-TIMEZONE:America/New_York
BEGIN:VTIMEZONE
TZID:America/New_York
BEGIN:STANDARD
TZNAME:EST
DTSTART:20251102T020000
TZOFFSETFROM:-0400
TZOFFSETTO:-0500
RDATE:20261101T020000
RDATE:20271107T020000
END:STANDARD
BEGIN:DAYLIGHT
TZNAME:EDT
DTSTART:20260308T020000
TZOFFSETFROM:-0500
TZOFFSETTO:-0400
RDATE:20270314T020000
END:DAYLIGHT
END:VTIMEZONE
BEGIN:VEVENT
UID:a312233c-cee1-470b-8ea5-b2d663e7153d
DTSTAMP:20260424T102816Z
DESCRIPTION:Mothers and daughters from a local dance studio perform with th
 e orchestra to bird-themed music like Stravinsky’s Firebird Suite and Wind
  beneath my Wings.
DTSTART;TZID=America/New_York:20260510T150000
DTEND;TZID=America/New_York:20260510T170000
LOCATION:St. Mary's Ross Hall
SUMMARY:Birds of a Feather - Indian River Pops & Preston Contemporary Dance
  Theatre
END:VEVENT
END:VCALENDAR
