BEGIN:VCALENDAR
VERSION:2.0
PRODID:-//www.martinarts.org//NONSGML kigkonsult.se iCalcreator 2.30.10//
CALSCALE:GREGORIAN
METHOD:PUBLISH
UID:15c9b12d-9f0c-4fb4-8f75-e4358b074642
X-WR-CALDESC:“Star Performers of the Treasure Coast Youth Symphony” under t
 he direction of Ben Enyart.\n\n• Admission: $5 for non-members\; free for 
 current MartinArts members (based on membership level)\n• Open to the publ
 ic.\n• Advanced registration closes 1 hour prior to performance.\n
X-WR-RELCALID:6ce282a6be53ab8ca56becd180097499
X-WR-TIMEZONE:America/New_York
BEGIN:VTIMEZONE
TZID:America/New_York
BEGIN:STANDARD
TZNAME:EST
DTSTART:20251102T020000
TZOFFSETFROM:-0400
TZOFFSETTO:-0500
RDATE:20261101T020000
RDATE:20271107T020000
END:STANDARD
BEGIN:DAYLIGHT
TZNAME:EDT
DTSTART:20260308T020000
TZOFFSETFROM:-0500
TZOFFSETTO:-0400
RDATE:20270314T020000
END:DAYLIGHT
END:VTIMEZONE
BEGIN:VEVENT
UID:291d56d3-95ec-4309-81c3-3c5de3b4c303
DTSTAMP:20260424T102417Z
DESCRIPTION:“Star Performers of the Treasure Coast Youth Symphony” under th
 e direction of Ben Enyart.\n\n• Admission: $5 for non-members\; free for c
 urrent MartinArts members (based on membership level)\n• Open to the publi
 c.\n• Advanced registration closes 1 hour prior to performance.\n
DTSTART;TZID=America/New_York:20260512T173000
DTEND;TZID=America/New_York:20260512T183000
LOCATION:Court House Cultural Center\, 80 SE Ocean Blvd.\, Stuart\, FL 3499
 4 US
SUMMARY:Sunset Concerts at the Gallery
END:VEVENT
END:VCALENDAR
