BEGIN:VCALENDAR
VERSION:2.0
PRODID:-//www.martinarts.org//NONSGML kigkonsult.se iCalcreator 2.30.10//
CALSCALE:GREGORIAN
METHOD:PUBLISH
UID:64f32d95-83ff-427e-a23c-f6c7da962be8
X-WR-CALDESC:Direct from Detroit! The Motortown All-Stars is a 10-piece all
 -star line-up of vocalists and musicians assembled from the ranks of the T
 emptations\, the Contours\, and the Miracles. Each has performed with Moto
 wn legends on stages around the world and now they've come together to del
 iver a Motown experience with impeccable harmonies\, flashy outfits & dazz
 ling choreography. You’ll hear all the hits you know and love like “My Gir
 l”\, “Ain't Too Proud to Beg”\, “Ooh Baby\, Baby”\, “Signed\, Sealed\, Del
 ivered” and more!\n\nTicket link: https://www.lyrictheatre.com/show/11730-
 direct-from-detroit-the-motortown-all-stars
X-WR-RELCALID:928506bfae39aa30e0dd26598acd0f88
X-WR-TIMEZONE:America/New_York
BEGIN:VTIMEZONE
TZID:America/New_York
BEGIN:STANDARD
TZNAME:EST
DTSTART:20251102T020000
TZOFFSETFROM:-0400
TZOFFSETTO:-0500
RDATE:20261101T020000
RDATE:20271107T020000
END:STANDARD
BEGIN:DAYLIGHT
TZNAME:EDT
DTSTART:20260308T020000
TZOFFSETFROM:-0500
TZOFFSETTO:-0400
RDATE:20270314T020000
END:DAYLIGHT
END:VTIMEZONE
BEGIN:VEVENT
UID:3c34909c-8d1c-4399-a2a7-29c89f9bcd50
DTSTAMP:20260424T102811Z
DESCRIPTION:Direct from Detroit! The Motortown All-Stars is a 10-piece all-
 star line-up of vocalists and musicians assembled from the ranks of the Te
 mptations\, the Contours\, and the Miracles. Each has performed with Motow
 n legends on stages around the world and now they've come together to deli
 ver a Motown experience with impeccable harmonies\, flashy outfits & dazzl
 ing choreography. You’ll hear all the hits you know and love like “My Girl
 ”\, “Ain't Too Proud to Beg”\, “Ooh Baby\, Baby”\, “Signed\, Sealed\, Deli
 vered” and more!\n\nTicket link: https://www.lyrictheatre.com/show/11730-d
 irect-from-detroit-the-motortown-all-stars
DTSTART;TZID=America/New_York:20260522T190000
DTEND;TZID=America/New_York:20260522T210000
LOCATION:59 SW Flagler Ave\, Stuart\, FL 34994 US
SUMMARY:Direct from Detroit! The Motortown All-Stars
END:VEVENT
END:VCALENDAR
