BEGIN:VCALENDAR
VERSION:2.0
PRODID:-//www.martinarts.org//NONSGML kigkonsult.se iCalcreator 2.30.10//
CALSCALE:GREGORIAN
METHOD:PUBLISH
UID:e42ce13e-2150-403e-b296-dc7c145d279c
X-WR-CALDESC:Into the Woods\, the beloved Tony Award Winning musical with m
 usic and lyrics by the great Stephen Sondheim\, premiered on Broadway in 1
 987. The show intertwines several classic fairy tales\, including Cinderel
 la\, Jack and the Beanstalk\, Little Red Riding Hood\, and Rapunzel\, blen
 ding them into a single narrative. The story revolves around a baker and h
 is wife\, who enter the woods desperate to lift a curse placed upon them\,
  leading them to encounter other fairy tale figures\, each seeking their o
 wn happily ever after. With its mix of humor\, heartache\, and magical sto
 rytelling\, Into the Woods\, continues to captivate audiences\, proving th
 at while fairy tales may promise happy endings\, real life is far more com
 plex – and that we all must navigate our own journey through the woods. Ti
 ckets are currently on sale. Group discounts available. Call 720287-4884 o
 r barn-theatre.com.
X-WR-RELCALID:ccbad969891a8aefdc575554cb3f2e26
X-WR-TIMEZONE:America/New_York
BEGIN:VTIMEZONE
TZID:America/New_York
BEGIN:STANDARD
TZNAME:EST
DTSTART:20251102T020000
TZOFFSETFROM:-0400
TZOFFSETTO:-0500
RDATE:20261101T020000
RDATE:20271107T020000
END:STANDARD
BEGIN:DAYLIGHT
TZNAME:EDT
DTSTART:20260308T020000
TZOFFSETFROM:-0500
TZOFFSETTO:-0400
RDATE:20270314T020000
END:DAYLIGHT
END:VTIMEZONE
BEGIN:VEVENT
UID:da161970-0e84-46ee-a315-dbecefac8456
DTSTAMP:20260424T095733Z
DESCRIPTION:Into the Woods\, the beloved Tony Award Winning musical with mu
 sic and lyrics by the great Stephen Sondheim\, premiered on Broadway in 19
 87. The show intertwines several classic fairy tales\, including Cinderell
 a\, Jack and the Beanstalk\, Little Red Riding Hood\, and Rapunzel\, blend
 ing them into a single narrative. The story revolves around a baker and hi
 s wife\, who enter the woods desperate to lift a curse placed upon them\, 
 leading them to encounter other fairy tale figures\, each seeking their ow
 n happily ever after. With its mix of humor\, heartache\, and magical stor
 ytelling\, Into the Woods\, continues to captivate audiences\, proving tha
 t while fairy tales may promise happy endings\, real life is far more comp
 lex – and that we all must navigate our own journey through the woods. Tic
 kets are currently on sale. Group discounts available. Call 720287-4884 or
  barn-theatre.com.
DTSTART;TZID=America/New_York:20260523T200000
DTEND;TZID=America/New_York:20260523T220000
LOCATION:2400 SE OCEAN BLVD #3312\, Stuart\, FL 34996 US
SUMMARY:Into the Woods - The Barn Theatre
END:VEVENT
END:VCALENDAR
