BEGIN:VCALENDAR
VERSION:2.0
PRODID:-//www.martinarts.org//NONSGML kigkonsult.se iCalcreator 2.30.10//
CALSCALE:GREGORIAN
METHOD:PUBLISH
UID:949c3e10-4005-44b4-92f1-6a2a34dbb7da
X-WR-CALDESC:Celebrate 75 with Rabbi Bruce of Temple Beth el Israel and the
  famous Beatles cover band from Orlando- Liverpool Live! playing with the 
 Indian River Pops Orchestra. A Beatles Birthday Bash for all ages!\n\n2pm-
 6pm\nMid-Florida Events Center\n\nirpopsorchestra.org
X-WR-RELCALID:8ea081cbe6e48aa38be35b95d5a04af0
X-WR-TIMEZONE:America/New_York
BEGIN:VTIMEZONE
TZID:America/New_York
BEGIN:STANDARD
TZNAME:EST
DTSTART:20251102T020000
TZOFFSETFROM:-0400
TZOFFSETTO:-0500
RDATE:20261101T020000
RDATE:20271107T020000
END:STANDARD
BEGIN:DAYLIGHT
TZNAME:EDT
DTSTART:20260308T020000
TZOFFSETFROM:-0500
TZOFFSETTO:-0400
RDATE:20270314T020000
END:DAYLIGHT
END:VTIMEZONE
BEGIN:VEVENT
UID:3dcbe9c2-a593-4790-ac27-62ebe25593c1
DTSTAMP:20260424T112702Z
DESCRIPTION:Celebrate 75 with Rabbi Bruce of Temple Beth el Israel and the 
 famous Beatles cover band from Orlando- Liverpool Live! playing with the I
 ndian River Pops Orchestra. A Beatles Birthday Bash for all ages!\n\n2pm-6
 pm\nMid-Florida Events Center\n\nirpopsorchestra.org
DTSTART;TZID=America/New_York:20260607T140000
DTEND;TZID=America/New_York:20260607T180000
LOCATION:9221 Southeast Event Center Place\, Port St Lucie\, FL 34952 US
SUMMARY:Beatles Birthday Bash
END:VEVENT
END:VCALENDAR
