BEGIN:VCALENDAR
VERSION:2.0
PRODID:-//www.martinarts.org//NONSGML kigkonsult.se iCalcreator 2.30.10//
CALSCALE:GREGORIAN
METHOD:PUBLISH
UID:94dccedd-8881-4d05-b1eb-1d77a1e8783b
X-WR-CALDESC:Oil Painting Classes with Artist Karen Leffel-Massengill held 
 at at The Artists' Nook located within Stuart Art Supply.\n\nContact Karen
  at karenleffel@comcast.net\nphone: 772.263.6061
X-WR-RELCALID:41398ded2c694d5f90d7079ea046ae2d
X-WR-TIMEZONE:America/New_York
BEGIN:VTIMEZONE
TZID:America/New_York
BEGIN:STANDARD
TZNAME:EST
DTSTART:20251102T020000
TZOFFSETFROM:-0400
TZOFFSETTO:-0500
RDATE:20261101T020000
RDATE:20271107T020000
END:STANDARD
BEGIN:DAYLIGHT
TZNAME:EDT
DTSTART:20260308T020000
TZOFFSETFROM:-0500
TZOFFSETTO:-0400
RDATE:20270314T020000
END:DAYLIGHT
END:VTIMEZONE
BEGIN:VEVENT
UID:0dec10de-5e43-4ba5-b2b3-335536e1147e
DTSTAMP:20260424T114403Z
DESCRIPTION:Oil Painting Classes with Artist Karen Leffel-Massengill held a
 t at The Artists' Nook located within Stuart Art Supply.\n\nContact Karen 
 at karenleffel@comcast.net\nphone: 772.263.6061
DTSTART;TZID=America/New_York:20260630T090000
DTEND;TZID=America/New_York:20260630T120000
LOCATION:Stuart Art Supply & Studio | 43 Kindred Street Stuart FL 34994
SUMMARY:Oil Painting Classes with Artist Karen Leffel-Massengill
END:VEVENT
END:VCALENDAR
