BEGIN:VCALENDAR
VERSION:2.0
PRODID:-//www.martinarts.org//NONSGML kigkonsult.se iCalcreator 2.30.10//
CALSCALE:GREGORIAN
METHOD:PUBLISH
UID:c3d23a7e-d12e-4b3d-8477-dc32e65a08bd
X-WR-CALDESC:Every Thursday from 6 – 9:30 PM in downtown Jensen Beach (on J
 ensen Beach Boulevard)\, Jammin Jensen offers a mini-festival of local art
 ists’ displays\, music\, vendors\, and family entertainment! \n\nThere is 
 no admission fee — it’s FREE! \n\n(*Please note\; The event is not held on
  Thanksgiving)
X-WR-RELCALID:73f4c05f599fda481757a7d25173fb1c
X-WR-TIMEZONE:America/New_York
BEGIN:VTIMEZONE
TZID:America/New_York
BEGIN:STANDARD
TZNAME:EST
DTSTART:20251102T020000
TZOFFSETFROM:-0400
TZOFFSETTO:-0500
RDATE:20261101T020000
RDATE:20271107T020000
END:STANDARD
BEGIN:DAYLIGHT
TZNAME:EDT
DTSTART:20260308T020000
TZOFFSETFROM:-0500
TZOFFSETTO:-0400
RDATE:20270314T020000
END:DAYLIGHT
END:VTIMEZONE
BEGIN:VEVENT
UID:51a729c3-3002-4f76-a8e9-60939ff1b52f
DTSTAMP:20260424T153710Z
DESCRIPTION:Every Thursday from 6 – 9:30 PM in downtown Jensen Beach (on Je
 nsen Beach Boulevard)\, Jammin Jensen offers a mini-festival of local arti
 sts’ displays\, music\, vendors\, and family entertainment! \n\nThere is n
 o admission fee — it’s FREE! \n\n(*Please note\; The event is not held on 
 Thanksgiving)
DTSTART;TZID=America/New_York:20260702T180000
DTEND;TZID=America/New_York:20260702T213000
LOCATION:Downtown Jensen Beach
SUMMARY:Jammin' in Jensen
END:VEVENT
END:VCALENDAR
