BEGIN:VCALENDAR
VERSION:2.0
PRODID:-//www.martinarts.org//NONSGML kigkonsult.se iCalcreator 2.30.10//
CALSCALE:GREGORIAN
METHOD:PUBLISH
UID:0647e84e-e13a-4d60-9f63-cd02512d9687
X-WR-CALDESC:
X-WR-RELCALID:cbcf8cf1a3699953ce025af21154185c
X-WR-TIMEZONE:America/New_York
BEGIN:VTIMEZONE
TZID:America/New_York
BEGIN:STANDARD
TZNAME:EST
DTSTART:20251102T020000
TZOFFSETFROM:-0400
TZOFFSETTO:-0500
RDATE:20261101T020000
RDATE:20271107T020000
END:STANDARD
BEGIN:DAYLIGHT
TZNAME:EDT
DTSTART:20260308T020000
TZOFFSETFROM:-0500
TZOFFSETTO:-0400
RDATE:20270314T020000
END:DAYLIGHT
END:VTIMEZONE
BEGIN:VEVENT
UID:43558bdd-40cf-4df4-8e67-e521db096042
DTSTAMP:20260424T125655Z
DESCRIPTION:
DTSTART;TZID=America/New_York:20260723T173000
DTEND;TZID=America/New_York:20260723T183000
LOCATION:80 SE Ocean Blvd\, Stuart\, FL 34994 US
SUMMARY:MartinArts Council Board Meeting
END:VEVENT
END:VCALENDAR
