BEGIN:VCALENDAR
VERSION:2.0
PRODID:-//www.martinarts.org//NONSGML kigkonsult.se iCalcreator 2.30.10//
CALSCALE:GREGORIAN
METHOD:PUBLISH
UID:76793e6f-9040-465a-8fad-6557e3957e33
X-WR-CALDESC:Celebrating 40 Years of Creativity and Talent! From its beginn
 ings in 1987 to today\, this milestone honors the alumni and traditions th
 at have made the show so memorable.\n\nExhibit dates: June 30–August 22\, 
 2026\n\nOpening Reception: Friday\, Friday\, June 26 | 5:30-7PM\n\n\nVisit
  our Current Exhibitions page to learn more: https://www.martinarts.org/co
 urt-house-cultural-center/currentexhibitions.html\n\nGallery Location: 80 
 SE Ocean Blvd.\, Stuart\, FL 34994\n*Gallery Hours (only during an exhibit
 )\nTuesday 10AM–6PM and Wednesday–Saturday 10AM–4PM or by appointment\n\nA
  donation of $5 in support of our exhibitions and programs is requested.\n
 \nSponsored in part by the State of Florida through the Division of Arts a
 nd Culture and the National Endowment for the Arts\, Martin County Board o
 f County Commissioners\, and private contributions.
X-WR-RELCALID:1f1d3af194d9592e8c96c25f791f615d
X-WR-TIMEZONE:America/New_York
BEGIN:VTIMEZONE
TZID:America/New_York
BEGIN:STANDARD
TZNAME:EST
DTSTART:20251102T020000
TZOFFSETFROM:-0400
TZOFFSETTO:-0500
RDATE:20261101T020000
RDATE:20271107T020000
END:STANDARD
BEGIN:DAYLIGHT
TZNAME:EDT
DTSTART:20260308T020000
TZOFFSETFROM:-0500
TZOFFSETTO:-0400
RDATE:20270314T020000
END:DAYLIGHT
END:VTIMEZONE
BEGIN:VEVENT
UID:85526516-58d0-4b3a-a22c-30fad419e375
DTSTAMP:20260424T155823Z
DESCRIPTION:Celebrating 40 Years of Creativity and Talent! From its beginni
 ngs in 1987 to today\, this milestone honors the alumni and traditions tha
 t have made the show so memorable.\n\nExhibit dates: June 30–August 22\, 2
 026\n\nOpening Reception: Friday\, Friday\, June 26 | 5:30-7PM\n\n\nVisit 
 our Current Exhibitions page to learn more: https://www.martinarts.org/cou
 rt-house-cultural-center/currentexhibitions.html\n\nGallery Location: 80 S
 E Ocean Blvd.\, Stuart\, FL 34994\n*Gallery Hours (only during an exhibit)
 \nTuesday 10AM–6PM and Wednesday–Saturday 10AM–4PM or by appointment\n\nA 
 donation of $5 in support of our exhibitions and programs is requested.\n
 \nSponsored in part by the State of Florida through the Division of Arts a
 nd Culture and the National Endowment for the Arts\, Martin County Board o
 f County Commissioners\, and private contributions.
DTSTART;TZID=America/New_York:20260812T100000
DTEND;TZID=America/New_York:20260812T160000
LOCATION:MartinArts\, 80 SE Ocean Blvd.\, Stuart\, AL 34994 US
SUMMARY:CHCC Gallery | Marvin S. Cone Annual High School Juried Art Show Al
 umni Exhibit
END:VEVENT
END:VCALENDAR
