BEGIN:VCALENDAR
VERSION:2.0
PRODID:-//www.martinarts.org//NONSGML kigkonsult.se iCalcreator 2.30.10//
CALSCALE:GREGORIAN
METHOD:PUBLISH
UID:cc13f91d-2b6d-4533-82c2-6e121c55dae9
X-WR-CALDESC:Open Studio with Denise Justice at the Artists' Nook located w
 ithin Stuart Art Supply.\n \nPick a medium!\n\nFor more Information contac
 t Denise denisejusticeart@gmail.com
X-WR-RELCALID:b820c9713cfa39e7a0055fa0440d73e1
X-WR-TIMEZONE:America/New_York
BEGIN:VTIMEZONE
TZID:America/New_York
BEGIN:STANDARD
TZNAME:EST
DTSTART:20251102T020000
TZOFFSETFROM:-0400
TZOFFSETTO:-0500
RDATE:20261101T020000
RDATE:20271107T020000
END:STANDARD
BEGIN:DAYLIGHT
TZNAME:EDT
DTSTART:20260308T020000
TZOFFSETFROM:-0500
TZOFFSETTO:-0400
RDATE:20270314T020000
END:DAYLIGHT
END:VTIMEZONE
BEGIN:VEVENT
UID:988fccff-5cd1-42bc-9a37-713cb4a4ff3e
DTSTAMP:20260424T171103Z
DESCRIPTION:Open Studio with Denise Justice at the Artists' Nook located wi
 thin Stuart Art Supply.\n \nPick a medium!\n\nFor more Information contact
  Denise denisejusticeart@gmail.com
DTSTART;TZID=America/New_York:20260824T130000
DTEND;TZID=America/New_York:20260824T160000
LOCATION:Stuart Art Supply & Studio | 43 Kindred Street Stuart FL 34994
SUMMARY:Open Studio w/ Denise Justice
END:VEVENT
END:VCALENDAR
