BEGIN:VCALENDAR
VERSION:2.0
PRODID:-//www.martinarts.org//NONSGML kigkonsult.se iCalcreator 2.30.10//
CALSCALE:GREGORIAN
METHOD:PUBLISH
UID:9d4b88e2-c806-4226-9780-9c41ccc74abd
X-WR-CALDESC:Open Studio with Denise Justice at the Artist's Nook located w
 ithin Stuart Art Supply.\n\nChoose your medium!\n\nFor more information\nE
 mail Denise denisejusticeart@gmail.com\n\n
X-WR-RELCALID:1a4275a63f5c0fb5943acf440e35b78a
X-WR-TIMEZONE:America/New_York
BEGIN:VTIMEZONE
TZID:America/New_York
BEGIN:STANDARD
TZNAME:EST
DTSTART:20251102T020000
TZOFFSETFROM:-0400
TZOFFSETTO:-0500
RDATE:20261101T020000
RDATE:20271107T020000
END:STANDARD
BEGIN:DAYLIGHT
TZNAME:EDT
DTSTART:20260308T020000
TZOFFSETFROM:-0500
TZOFFSETTO:-0400
RDATE:20270314T020000
END:DAYLIGHT
END:VTIMEZONE
BEGIN:VEVENT
UID:b794af54-7ded-4c03-8432-bef2b972a502
DTSTAMP:20260424T153740Z
DESCRIPTION:Open Studio with Denise Justice at the Artist's Nook located wi
 thin Stuart Art Supply.\n\nChoose your medium!\n\nFor more information\nEm
 ail Denise denisejusticeart@gmail.com\n\n
DTSTART;TZID=America/New_York:20260831T090000
DTEND;TZID=America/New_York:20260831T120000
LOCATION:Stuart Art Supply
SUMMARY:Open Studio w/ Denise Justice
END:VEVENT
END:VCALENDAR
