BEGIN:VCALENDAR
VERSION:2.0
PRODID:-//www.martinarts.org//NONSGML kigkonsult.se iCalcreator 2.30.10//
CALSCALE:GREGORIAN
METHOD:PUBLISH
UID:d0097c16-bdf7-4f2a-acc0-ab5dfe771b8a
X-WR-CALDESC:Oil Painting Classes with Artist Karen Leffel-Massengill held 
 at at The Artists' Nook located within Stuart Art Supply.\n\nemail:karenle
 ffel@comcast.net\nphone: 772.263.6061\n
X-WR-RELCALID:246f851b375ed73a82d24a5d6a75acb5
X-WR-TIMEZONE:America/New_York
BEGIN:VTIMEZONE
TZID:America/New_York
BEGIN:STANDARD
TZNAME:EST
DTSTART:20251102T020000
TZOFFSETFROM:-0400
TZOFFSETTO:-0500
RDATE:20261101T020000
RDATE:20271107T020000
END:STANDARD
BEGIN:DAYLIGHT
TZNAME:EDT
DTSTART:20260308T020000
TZOFFSETFROM:-0500
TZOFFSETTO:-0400
RDATE:20270314T020000
END:DAYLIGHT
END:VTIMEZONE
BEGIN:VEVENT
UID:3fa91fbe-3ac6-4601-97b2-865e21bf0b54
DTSTAMP:20260424T185336Z
DESCRIPTION:Oil Painting Classes with Artist Karen Leffel-Massengill held a
 t at The Artists' Nook located within Stuart Art Supply.\n\nemail:karenlef
 fel@comcast.net\nphone: 772.263.6061\n
DTSTART;TZID=America/New_York:20260908T130000
DTEND;TZID=America/New_York:20260908T160000
LOCATION:Stuart Art Supply & Studio | 43 Kindred Street Stuart FL 34994
SUMMARY:Oil Painting with Karen Leffel-Massengill
END:VEVENT
END:VCALENDAR
