BEGIN:VCALENDAR
VERSION:2.0
PRODID:-//www.martinarts.org//NONSGML kigkonsult.se iCalcreator 2.30.10//
CALSCALE:GREGORIAN
METHOD:PUBLISH
UID:d8b9b2ff-15e2-4997-95a1-012ac3d66e81
X-WR-CALDESC:Oil Painting Classes with Artist Karen Leffel-Massengill held 
 at at The Artists' Nook located within Stuart Art Supply.\n\nContact Karen
  at karenleffel@comcast.net\nphone: 772.263.6061
X-WR-RELCALID:11400384e43bbdbee0d03f384cb0abd3
X-WR-TIMEZONE:America/New_York
BEGIN:VTIMEZONE
TZID:America/New_York
BEGIN:STANDARD
TZNAME:EST
DTSTART:20251102T020000
TZOFFSETFROM:-0400
TZOFFSETTO:-0500
RDATE:20261101T020000
RDATE:20271107T020000
END:STANDARD
BEGIN:DAYLIGHT
TZNAME:EDT
DTSTART:20260308T020000
TZOFFSETFROM:-0500
TZOFFSETTO:-0400
RDATE:20270314T020000
RDATE:20280312T020000
END:DAYLIGHT
END:VTIMEZONE
BEGIN:VEVENT
UID:e5af63a5-4f4f-40c0-8159-406b0cff4d60
DTSTAMP:20260424T185334Z
DESCRIPTION:Oil Painting Classes with Artist Karen Leffel-Massengill held a
 t at The Artists' Nook located within Stuart Art Supply.\n\nContact Karen 
 at karenleffel@comcast.net\nphone: 772.263.6061
DTSTART;TZID=America/New_York:20260922T090000
DTEND;TZID=America/New_York:20260922T120000
LOCATION:Stuart Art Supply & Studio | 43 Kindred Street Stuart FL 34994
SUMMARY:Oil Painting Classes with Artist Karen Leffel-Massengill
END:VEVENT
END:VCALENDAR
