BEGIN:VCALENDAR
VERSION:2.0
PRODID:-//www.martinarts.org//NONSGML kigkonsult.se iCalcreator 2.30.10//
CALSCALE:GREGORIAN
METHOD:PUBLISH
UID:4136334c-72ba-4902-8d3a-a85f90cbb0f6
X-WR-CALDESC:A showcase of the diverse talents of MartinArts members\, this
  exhibition highlights the incredible range of creativity within our commu
 nity. From visual arts and photography to music and performance\, each par
 ticipant brings their unique perspective and skills to the forefront. Atte
 ndees can expect to be inspired by the innovative works and passionate exp
 ressions that reflect the vibrant spirit of MartinArts and its members. Jo
 in us in experiencing the rich tapestry of talent that makes our community
  truly special!\n\nExhibit dates: September 8 - October 31\, 2026\n\nOpeni
 ng Reception Thursday\, September 10th | 5:30–7PM\n\nFundraiser - A specia
 l selection of original works created in a variety of media will be availa
 ble for purchase.   All proceeds to benefit arts education programs. \n\n
 \nGallery Location: 80 SE Ocean Blvd.\, Stuart\, FL 34994\n*Gallery Hours 
 (only during an exhibit)\nTuesday 10AM–6PM and Wednesday–Saturday 10AM–4PM
  or by appointment\n\nA donation of $5 in support of our exhibitions and p
 rograms is requested.\n\nSponsored in part by the State of Florida through
  the Division of Arts and Culture and the National Endowment for the Arts\
 , Martin County Board of County Commissioners\, and private contributions.
X-WR-RELCALID:5c24c0e16c629902e963593e3842fa1e
X-WR-TIMEZONE:America/New_York
BEGIN:VTIMEZONE
TZID:America/New_York
BEGIN:STANDARD
TZNAME:EST
DTSTART:20251102T020000
TZOFFSETFROM:-0400
TZOFFSETTO:-0500
RDATE:20261101T020000
RDATE:20271107T020000
END:STANDARD
BEGIN:DAYLIGHT
TZNAME:EDT
DTSTART:20260308T020000
TZOFFSETFROM:-0500
TZOFFSETTO:-0400
RDATE:20270314T020000
RDATE:20280312T020000
END:DAYLIGHT
END:VTIMEZONE
BEGIN:VEVENT
UID:94c07488-4a73-46c5-81b2-b6f49e369c44
DTSTAMP:20260424T184910Z
DESCRIPTION:A showcase of the diverse talents of MartinArts members\, this 
 exhibition highlights the incredible range of creativity within our commun
 ity. From visual arts and photography to music and performance\, each part
 icipant brings their unique perspective and skills to the forefront. Atten
 dees can expect to be inspired by the innovative works and passionate expr
 essions that reflect the vibrant spirit of MartinArts and its members. Joi
 n us in experiencing the rich tapestry of talent that makes our community 
 truly special!\n\nExhibit dates: September 8 - October 31\, 2026\n\nOpenin
 g Reception Thursday\, September 10th | 5:30–7PM\n\nFundraiser - A special
  selection of original works created in a variety of media will be availab
 le for purchase.   All proceeds to benefit arts education programs. \n\n\n
 Gallery Location: 80 SE Ocean Blvd.\, Stuart\, FL 34994\n*Gallery Hours (o
 nly during an exhibit)\nTuesday 10AM–6PM and Wednesday–Saturday 10AM–4PM o
 r by appointment\n\nA donation of $5 in support of our exhibitions and pro
 grams is requested.\n\nSponsored in part by the State of Florida through t
 he Division of Arts and Culture and the National Endowment for the Arts\, 
 Martin County Board of County Commissioners\, and private contributions.
DTSTART;TZID=America/New_York:20260926T100000
DTEND;TZID=America/New_York:20260926T160000
LOCATION:MartinArts\, 80 SE Ocean Blvd.\, Stuart\, AL 34994 US
SUMMARY:CHCC Gallery | 5th Annual Members Showcase
END:VEVENT
END:VCALENDAR
