BEGIN:VCALENDAR
VERSION:2.0
PRODID:-//www.martinarts.org//NONSGML kigkonsult.se iCalcreator 2.30.10//
CALSCALE:GREGORIAN
METHOD:PUBLISH
UID:69f794b4-3942-43a0-b048-322e1cae6acf
X-WR-CALDESC:9 AM - 12 NOON\n\nContact Carol for Information:\nPhone: 772.2
 14.8940\nEmail: keppca@outlook.com
X-WR-RELCALID:8ffca09fe5dddcd7e28a1db7a984d41f
X-WR-TIMEZONE:America/New_York
BEGIN:VTIMEZONE
TZID:America/New_York
BEGIN:STANDARD
TZNAME:EST
DTSTART:20251102T020000
TZOFFSETFROM:-0400
TZOFFSETTO:-0500
RDATE:20261101T020000
RDATE:20271107T020000
END:STANDARD
BEGIN:DAYLIGHT
TZNAME:EDT
DTSTART:20260308T020000
TZOFFSETFROM:-0500
TZOFFSETTO:-0400
RDATE:20270314T020000
RDATE:20280312T020000
END:DAYLIGHT
END:VTIMEZONE
BEGIN:VEVENT
UID:0e28242b-9604-420f-b27f-36cfbef916d0
DTSTAMP:20260424T185307Z
DESCRIPTION:9 AM - 12 NOON\n\nContact Carol for Information:\nPhone: 772.21
 4.8940\nEmail: keppca@outlook.com
DTSTART;TZID=America/New_York:20260930T090000
DTEND;TZID=America/New_York:20260930T120000
LOCATION:Stuart Art Supply & Studio | 43 Kindred Street Stuart FL 34994
SUMMARY:Oil & Acrylic Painting with Carol Kepp
END:VEVENT
END:VCALENDAR
